Workbook
Name SegmentaciónDeDatos_POSICIÓN: #N/A
Name SegmentaciónDeDatos_RONDA_ESTIMADA: #N/A

Sheet bigboard2026
A1: RANK | B1: NOMBRE | C1: POSICIÓN | D1: UNIVERSIDAD | E1: RONDA_ESTIMADA | F1: ALT | G1: PESO | H1: NAC
A2: 1 | B2: Fernando Mendoza | C2: QB | D2: Indiana | E2: R1 | F2: 1.96 | G2: 102 | H2: 2003 | O2: =Tabla1[[#This Row],[RANK]] -> 1
A3: 2 | B3: Arvell Reese | C3: LB | D3: Ohio State | E3: R1 | F3: 1.93 | G3: 109 | H3: 2005 | O3: =Tabla1[[#This Row],[RANK]] -> 2
A4: 3 | B4: Sonny Styles | C4: LB | D4: Ohio State | E4: R1 | F4: 1.96 | G4: 111 | H4: 2004 | O4: =Tabla1[[#This Row],[RANK]] -> 3
A5: 4 | B5: David Bailey | C5: EDGE | D5: Texas Tech | E5: R1 | F5: 1.91 | G5: 113 | H5: 2003 | O5: =Tabla1[[#This Row],[RANK]] -> 4
A6: 5 | B6: Jeremiyah Love | C6: RB | D6: Notre Dame | E6: R1 | F6: 1.83 | G6: 97 | H6: 2005 | O6: =Tabla1[[#This Row],[RANK]] -> 5
A7: 6 | B7: Rueben Bain Jr. | C7: EDGE | D7: Miami | E7: R1 | F7: 1.88 | G7: 119 | H7: 2004 | O7: =Tabla1[[#This Row],[RANK]] -> 6
A8: 7 | B8: Caleb Downs | C8: S | D8: Ohio State | E8: R1 | F8: 1.83 | G8: 93 | H8: 2004 | O8: =Tabla1[[#This Row],[RANK]] -> 7
A9: 8 | B9: Francis Mauigoa | C9: OT | D9: Miami | E9: R1 | F9: 1.96 | G9: 149 | H9: 2005 | O9: =Tabla1[[#This Row],[RANK]] -> 8
A10: 9 | B10: Carnell Tate | C10: WR | D10: Ohio State | E10: R1 | F10: 1.91 | G10: 88 | H10: 2005 | O10: =Tabla1[[#This Row],[RANK]] -> 9
A11: 10 | B11: Mansoor Delane | C11: CB | D11: LSU | E11: R1 | F11: 1.83 | G11: 85 | H11: 2003 | O11: =Tabla1[[#This Row],[RANK]] -> 10
A12: 11 | B12: Dillon Thieneman | C12: S | D12: Oregon | E12: R1 | F12: 1.83 | G12: 91 | H12: 2004 | O12: =Tabla1[[#This Row],[RANK]] -> 11
A13: 12 | B13: Makai Lemon | C13: WR | D13: USC | E13: R1 | F13: 1.8 | G13: 88 | H13: 2004 | O13: =Tabla1[[#This Row],[RANK]] -> 12
... A281: 280 | B281: Fernando Carmona | C281: G | D281: Arkansas | E281: R7 | F281: 1.93 | G281: 147 | H281: 2002 | O281: =Tabla1[[#This Row],[RANK]] -> 280
B282: Adam Randall | C282: RB | D282: Clemson | E282: UDFA | F282: 1.88 | G282: 104 | H282: 2004 | O282: =Tabla1[[#This Row],[RANK]] -> 0
B283: Alan Herron | C283: OT | D283: Maryland | E283: UDFA | F283: 1.98 | G283: 145 | H283: 2002 | O283: =Tabla1[[#This Row],[RANK]] -> 0
B284: Alex Foster | C284: G | D284: Colorado State | E284: UDFA | F284: 1.93 | G284: 138 | H284: 2002 | O284: =Tabla1[[#This Row],[RANK]] -> 0
B285: Alex Harkey | C285: G | D285: Oregon | E285: UDFA | F285: 1.98 | G285: 148 | H285: 2001 | O285: =Tabla1[[#This Row],[RANK]] -> 0
B286: Arden Walker | C286: EDGE | D286: Colorado | E286: UDFA | F286: 1.88 | G286: 113 | H286: 2002 | O286: =Tabla1[[#This Row],[RANK]] -> 0
B287: Avery Smith | C287: CB | D287: Toledo | E287: UDFA | F287: 1.78 | G287: 89 | H287: 2002 | O287: =Tabla1[[#This Row],[RANK]] -> 0
B288: Ayden Hector | C288: S | D288: Colorado State | E288: UDFA | F288: 1.83 | G288: 95 | H288: 2002 | O288: =Tabla1[[#This Row],[RANK]] -> 0
B289: Bauer Sharpe | C289: TE | D289: LSU | E289: UDFA | F289: 1.96 | G289: 113 | H289: 2003 | O289: =Tabla1[[#This Row],[RANK]] -> 0
B290: Behren Morton | C290: QB | D290: Texas Tech | E290: UDFA | F290: 1.88 | G290: 99 | H290: 2002 | O290: =Tabla1[[#This Row],[RANK]] -> 0
B291: Bobby Jamison-Travis | C291: DT | D291: Auburn | E291: UDFA | F291: 1.93 | G291: 146 | H291: 2002 | O291: =Tabla1[[#This Row],[RANK]] -> 0
B292: Carlos Anaya | C292: TE | D292: Colorado State | E292: UDFA | F292: 1.98 | G292: 108 | H292: 2003 | O292: =Tabla1[[#This Row],[RANK]] -> 0
B293: Chandler Brown | C293: G | D293: Colorado State | E293: UDFA | F293: 1.91 | G293: 136 | H293: 2002 | O293: =Tabla1[[#This Row],[RANK]] -> 0
... B345: Xavier Nwankpa | C345: S | D345: Iowa | E345: UDFA | F345: 1.88 | G345: 94 | H345: 2004 | O345: =Tabla1[[#This Row],[RANK]] -> 0

Sheet QB
A1: RANK | B1: NOMBRE | C1: POSICIÓN | D1: UNIVERSIDAD | E1: RONDA_ESTIMADA | F1: ATT | G1: COMP | H1: YRDS | I1: INT | J1: TD | K1: %COMP | L1: ALT | M1: PESO | N1: EDAD
A2: =VLOOKUP(B2,bigboard2026!B:O,14,0) -> 1 | B2: Fernando Mendoza | C2: QB | D2: Indiana | E2: =VLOOKUP(B2,Tabla1[[NOMBRE]:[RONDA_ESTIMADA]],4,0) -> R1 | F2: 379 | G2: 273 | H2: 3535 | I2: 6 | J2: 41 | K2: =G2/F2 -> 0.72031662 | L2: =VLOOKUP(B2,bigboard2026!B:F,5,0) -> 1.96 | M2: =VLOOKUP(B2,bigboard2026!B:G,6,0) -> 102 | N2: =2026-VLOOKUP(B2,bigboard2026!B:H,7,0) -> 23
A3: =VLOOKUP(B3,bigboard2026!B:O,14,0) -> 46 | B3: Ty Simpson | C3: QB | D3: Alabama | E3: =VLOOKUP(B3,Tabla1[[NOMBRE]:[RONDA_ESTIMADA]],4,0) -> R2 | F3: 473 | G3: 305 | H3: 3567 | I3: 5 | J3: 28 | K3: =G3/F3 -> 0.6448203 | L3: =VLOOKUP(B3,bigboard2026!B:F,5,0) -> 1.88 | M3: =VLOOKUP(B3,bigboard2026!B:G,6,0) -> 94 | N3: =2026-VLOOKUP(B3,bigboard2026!B:H,7,0) -> 24
A4: =VLOOKUP(B4,bigboard2026!B:O,14,0) -> 92 | B4: Garrett Nussmeier | C4: QB | D4: LSU | E4: =VLOOKUP(B4,Tabla1[[NOMBRE]:[RONDA_ESTIMADA]],4,0) -> R3 | F4: 288 | G4: 194 | H4: 1927 | I4: 5 | J4: 12 | K4: =G4/F4 -> 0.67361111 | L4: =VLOOKUP(B4,bigboard2026!B:F,5,0) -> 1.85 | M4: =VLOOKUP(B4,bigboard2026!B:G,6,0) -> 92 | N4: =2026-VLOOKUP(B4,bigboard2026!B:H,7,0) -> 24
A5: =VLOOKUP(B5,bigboard2026!B:O,14,0) -> 99 | B5: Drew Allar | C5: QB | D5: Penn State | E5: =VLOOKUP(B5,Tabla1[[NOMBRE]:[RONDA_ESTIMADA]],4,0) -> R3 | F5: 159 | G5: 103 | H5: 1100 | I5: 3 | J5: 8 | K5: =G5/F5 -> 0.64779874 | L5: =VLOOKUP(B5,bigboard2026!B:F,5,0) -> 1.96 | M5: =VLOOKUP(B5,bigboard2026!B:G,6,0) -> 106 | N5: =2026-VLOOKUP(B5,bigboard2026!B:H,7,0) -> 22
A6: =VLOOKUP(B6,bigboard2026!B:O,14,0) -> 106 | B6: Carson Beck | C6: QB | D6: Miami | E6: =VLOOKUP(B6,Tabla1[[NOMBRE]:[RONDA_ESTIMADA]],4,0) -> R3 | F6: 467 | G6: 338 | H6: 3813 | I6: 12 | J6: 30 | K6: =G6/F6 -> 0.72376874 | L6: =VLOOKUP(B6,bigboard2026!B:F,5,0) -> 1.93 | M6: =VLOOKUP(B6,bigboard2026!B:G,6,0) -> 99 | N6: =2026-VLOOKUP(B6,bigboard2026!B:H,7,0) -> 24
A7: =VLOOKUP(B7,bigboard2026!B:O,14,0) -> 167 | B7: Cade Klubnik | C7: QB | D7: Clemson | E7: =VLOOKUP(B7,Tabla1[[NOMBRE]:[RONDA_ESTIMADA]],4,0) -> R5 | F7: 392 | G7: 257 | H7: 2943 | I7: 6 | J7: 16 | K7: =G7/F7 -> 0.65561224 | L7: =VLOOKUP(B7,bigboard2026!B:F,5,0) -> 1.88 | M7: =VLOOKUP(B7,bigboard2026!B:G,6,0) -> 95 | N7: =2026-VLOOKUP(B7,bigboard2026!B:H,7,0) -> 23
A8: =VLOOKUP(B8,bigboard2026!B:O,14,0) -> 205 | B8: Dante Moore | C8: QB | D8: Oregon | E8: =VLOOKUP(B8,Tabla1[[NOMBRE]:[RONDA_ESTIMADA]],4,0) -> R6 | F8: 412 | G8: 296 | H8: 3565 | I8: 10 | J8: 30 | K8: =G8/F8 -> 0.7184466 | L8: =VLOOKUP(B8,bigboard2026!B:F,5,0) -> 1.91 | M8: =VLOOKUP(B8,bigboard2026!B:G,6,0) -> 93 | N8: =2026-VLOOKUP(B8,bigboard2026!B:H,7,0) -> 21
A9: =VLOOKUP(B9,bigboard2026!B:O,14,0) -> 214 | B9: Joey Aguilar | C9: QB | D9: Tennessee | E9: =VLOOKUP(B9,Tabla1[[NOMBRE]:[RONDA_ESTIMADA]],4,0) -> R6 | F9: 404 | G9: 272 | H9: 3565 | I9: 10 | J9: 24 | K9: =G9/F9 -> 0.67326733 | L9: =VLOOKUP(B9,bigboard2026!B:F,5,0) -> 1.91 | M9: =VLOOKUP(B9,bigboard2026!B:G,6,0) -> 102 | N9: =2026-VLOOKUP(B9,bigboard2026!B:H,7,0) -> 25
A10: =VLOOKUP(B10,bigboard2026!B:O,14,0) -> 215 | B10: Sawyer Robertson | C10: QB | D10: Baylor | E10: =VLOOKUP(B10,Tabla1[[NOMBRE]:[RONDA_ESTIMADA]],4,0) -> R6 | F10: 504 | G10: 304 | H10: 3681 | I10: 12 | J10: 31 | K10: =G10/F10 -> 0.6031746 | L10: =VLOOKUP(B10,bigboard2026!B:F,5,0) -> 1.93 | M10: =VLOOKUP(B10,bigboard2026!B:G,6,0) -> 99 | N10: =2026-VLOOKUP(B10,bigboard2026!B:H,7,0) -> 23
A11: =VLOOKUP(B11,bigboard2026!B:O,14,0) -> 233 | B11: Luke Altmyer | C11: QB | D11: Illinois | E11: =VLOOKUP(B11,Tabla1[[NOMBRE]:[RONDA_ESTIMADA]],4,0) -> R6 | F11: 365 | G11: 246 | H11: 3007 | I11: 5 | J11: 22 | K11: =G11/F11 -> 0.6739726 | L11: =VLOOKUP(B11,bigboard2026!B:F,5,0) -> 1.88 | M11: =VLOOKUP(B11,bigboard2026!B:G,6,0) -> 92 | N11: =2026-VLOOKUP(B11,bigboard2026!B:H,7,0) -> 24
A12: =VLOOKUP(B12,bigboard2026!B:O,14,0) -> 240 | B12: Joe Fagnano | C12: QB | D12: Connecticut | E12: =VLOOKUP(B12,Tabla1[[NOMBRE]:[RONDA_ESTIMADA]],4,0) -> R6 | F12: 413 | G12: 285 | H12: 3448 | I12: 1 | J12: 28 | K12: =G12/F12 -> 0.69007264 | L12: =VLOOKUP(B12,bigboard2026!B:F,5,0) -> 1.93 | M12: =VLOOKUP(B12,bigboard2026!B:G,6,0) -> 102 | N12: =2026-VLOOKUP(B12,bigboard2026!B:H,7,0) -> 25
A13: =VLOOKUP(B13,bigboard2026!B:O,14,0) -> 254 | B13: Taylen Green | C13: QB | D13: Arkansas | E13: =VLOOKUP(B13,Tabla1[[NOMBRE]:[RONDA_ESTIMADA]],4,0) -> R7 | F13: 326 | G13: 198 | H13: 2714 | I13: 11 | J13: 19 | K13: =G13/F13 -> 0.60736196 | L13: =VLOOKUP(B13,bigboard2026!B:F,5,0) -> 1.98 | M13: =VLOOKUP(B13,bigboard2026!B:G,6,0) -> 101 | N13: =2026-VLOOKUP(B13,bigboard2026!B:H,7,0) -> 24
... A18: =VLOOKUP(B18,bigboard2026!B:O,14,0) -> 0 | B18: Jalon Daniels | C18: QB | D18: Kansas | E18: =VLOOKUP(B18,Tabla1[[NOMBRE]:[RONDA_ESTIMADA]],4,0) -> UDFA | F18: 319 | G18: 198 | H18: 2531 | I18: 7 | J18: 21 | K18: =G18/F18 -> 0.62068966 | L18: =VLOOKUP(B18,bigboard2026!B:F,5,0) -> 1.83 | M18: =VLOOKUP(B18,bigboard2026!B:G,6,0) -> 99 | N18: =2026-VLOOKUP(B18,bigboard2026!B:H,7,0) -> 24

Sheet RB
A1: RANK | B1: NOMBRE | C1: POSICIÓN | D1: UNIVERSIDAD | E1: RONDA_ESTIMADA | F1: ACA | G1: YRDS | H1: TD | I1: YR/ACA | J1: ALT | K1: PESO | L1: EDAD
A2: =VLOOKUP(B2,bigboard2026!B:O,14,0) -> 5 | B2: Jeremiyah Love | C2: RB | D2: Notre Dame | E2: =VLOOKUP(B2,Tabla1[[NOMBRE]:[RONDA_ESTIMADA]],4,0) -> R1 | F2: 199 | G2: 1372 | H2: 18 | I2: =G2/F2 -> 6.8944724 | J2: =VLOOKUP(B2,bigboard2026!B:F,5,0) -> 1.83 | K2: =VLOOKUP(B2,bigboard2026!B:G,6,0) -> 97 | L2: =2026-VLOOKUP(B2,bigboard2026!B:H,7,0) -> 21
A3: =VLOOKUP(B3,bigboard2026!B:O,14,0) -> 54 | B3: Jadarian Price | C3: RB | D3: Notre Dame | E3: =VLOOKUP(B3,Tabla1[[NOMBRE]:[RONDA_ESTIMADA]],4,0) -> R2 | F3: 113 | G3: 674 | H3: 11 | I3: =G3/F3 -> 5.9646018 | J3: =VLOOKUP(B3,bigboard2026!B:F,5,0) -> 1.8 | K3: =VLOOKUP(B3,bigboard2026!B:G,6,0) -> 94 | L3: =2026-VLOOKUP(B3,bigboard2026!B:H,7,0) -> 23
A4: =VLOOKUP(B4,bigboard2026!B:O,14,0) -> 72 | B4: Mike Washington Jr | C4: RB | D4: Arkansas | E4: =VLOOKUP(B4,Tabla1[[NOMBRE]:[RONDA_ESTIMADA]],4,0) -> R2 | F4: 167 | G4: 1070 | H4: 8 | I4: =G4/F4 -> 6.4071856 | J4: =VLOOKUP(B4,bigboard2026!B:F,5,0) -> 1.88 | K4: =VLOOKUP(B4,bigboard2026!B:G,6,0) -> 101 | L4: =2026-VLOOKUP(B4,bigboard2026!B:H,7,0) -> 23
A5: =VLOOKUP(B5,bigboard2026!B:O,14,0) -> 97 | B5: Jonah Coleman | C5: RB | D5: Washington | E5: =VLOOKUP(B5,Tabla1[[NOMBRE]:[RONDA_ESTIMADA]],4,0) -> R3 | F5: 156 | G5: 758 | H5: 15 | I5: =G5/F5 -> 4.8589744 | J5: =VLOOKUP(B5,bigboard2026!B:F,5,0) -> 1.75 | K5: =VLOOKUP(B5,bigboard2026!B:G,6,0) -> 103 | L5: =2026-VLOOKUP(B5,bigboard2026!B:H,7,0) -> 23
A6: =VLOOKUP(B6,bigboard2026!B:O,14,0) -> 129 | B6: Emmett Johnson | C6: RB | D6: Nebraska | E6: =VLOOKUP(B6,Tabla1[[NOMBRE]:[RONDA_ESTIMADA]],4,0) -> R4 | F6: 251 | G6: 1451 | H6: 12 | I6: =G6/F6 -> 5.7808765 | J6: =VLOOKUP(B6,bigboard2026!B:F,5,0) -> 1.8 | K6: =VLOOKUP(B6,bigboard2026!B:G,6,0) -> 90 | L6: =2026-VLOOKUP(B6,bigboard2026!B:H,7,0) -> 23
A7: =VLOOKUP(B7,bigboard2026!B:O,14,0) -> 131 | B7: Nicholas Singleton | C7: RB | D7: Penn State | E7: =VLOOKUP(B7,Tabla1[[NOMBRE]:[RONDA_ESTIMADA]],4,0) -> R4 | F7: 123 | G7: 549 | H7: 13 | I7: =G7/F7 -> 4.4634146 | J7: =VLOOKUP(B7,bigboard2026!B:F,5,0) -> 1.83 | K7: =VLOOKUP(B7,bigboard2026!B:G,6,0) -> 101 | L7: =2026-VLOOKUP(B7,bigboard2026!B:H,7,0) -> 22
A8: =VLOOKUP(B8,bigboard2026!B:O,14,0) -> 135 | B8: Seth McGowan | C8: RB | D8: Kentucky | E8: =VLOOKUP(B8,Tabla1[[NOMBRE]:[RONDA_ESTIMADA]],4,0) -> R4 | F8: 165 | G8: 725 | H8: 12 | I8: =G8/F8 -> 4.3939394 | J8: =VLOOKUP(B8,bigboard2026!B:F,5,0) -> 1.85 | K8: =VLOOKUP(B8,bigboard2026!B:G,6,0) -> 97 | L8: =2026-VLOOKUP(B8,bigboard2026!B:H,7,0) -> 25
A9: =VLOOKUP(B9,bigboard2026!B:O,14,0) -> 150 | B9: Le'Veon Moss | C9: RB | D9: Texas A&M | E9: =VLOOKUP(B9,Tabla1[[NOMBRE]:[RONDA_ESTIMADA]],4,0) -> R4 | F9: 77 | G9: 404 | H9: 6 | I9: =G9/F9 -> 5.2467532 | J9: =VLOOKUP(B9,bigboard2026!B:F,5,0) -> 1.8 | K9: =VLOOKUP(B9,bigboard2026!B:G,6,0) -> 95 | L9: =2026-VLOOKUP(B9,bigboard2026!B:H,7,0) -> 24
A10: =VLOOKUP(B10,bigboard2026!B:O,14,0) -> 152 | B10: Kaytron Allen | C10: RB | D10: Penn State | E10: =VLOOKUP(B10,Tabla1[[NOMBRE]:[RONDA_ESTIMADA]],4,0) -> R4 | F10: 210 | G10: 1303 | H10: 15 | I10: =G10/F10 -> 6.2047619 | J10: =VLOOKUP(B10,bigboard2026!B:F,5,0) -> 1.8 | K10: =VLOOKUP(B10,bigboard2026!B:G,6,0) -> 98 | L10: =2026-VLOOKUP(B10,bigboard2026!B:H,7,0) -> 23
A11: =VLOOKUP(B11,bigboard2026!B:O,14,0) -> 157 | B11: Demond Claiborne | C11: RB | D11: Wake Forest | E11: =VLOOKUP(B11,Tabla1[[NOMBRE]:[RONDA_ESTIMADA]],4,0) -> R4 | F11: 179 | G11: 907 | H11: 10 | I11: =G11/F11 -> 5.0670391 | J11: =VLOOKUP(B11,bigboard2026!B:F,5,0) -> 1.78 | K11: =VLOOKUP(B11,bigboard2026!B:G,6,0) -> 88 | L11: =2026-VLOOKUP(B11,bigboard2026!B:H,7,0) -> 23
A12: =VLOOKUP(B12,bigboard2026!B:O,14,0) -> 161 | B12: Jaydn Ott | C12: RB | D12: Oklahoma | E12: =VLOOKUP(B12,Tabla1[[NOMBRE]:[RONDA_ESTIMADA]],4,0) -> R5 | F12: 21 | G12: 68 | H12: 0 | I12: =G12/F12 -> 3.2380952 | J12: =VLOOKUP(B12,bigboard2026!B:F,5,0) -> 1.8 | K12: =VLOOKUP(B12,bigboard2026!B:G,6,0) -> 94 | L12: =2026-VLOOKUP(B12,bigboard2026!B:H,7,0) -> 23
A13: =VLOOKUP(B13,bigboard2026!B:O,14,0) -> 189 | B13: J'Mari Taylor | C13: RB | D13: Virginia | E13: =VLOOKUP(B13,Tabla1[[NOMBRE]:[RONDA_ESTIMADA]],4,0) -> R5 | F13: 222 | G13: 1062 | H13: 14 | I13: =G13/F13 -> 4.7837838 | J13: =VLOOKUP(B13,bigboard2026!B:F,5,0) -> 1.75 | K13: =VLOOKUP(B13,bigboard2026!B:G,6,0) -> 92 | L13: =2026-VLOOKUP(B13,bigboard2026!B:H,7,0) -> 24
... A26: =VLOOKUP(B26,bigboard2026!B:O,14,0) -> 0 | B26: Adam Randall | C26: RB | D26: Clemson | E26: =VLOOKUP(B26,Tabla1[[NOMBRE]:[RONDA_ESTIMADA]],4,0) -> UDFA | F26: 168 | G26: 814 | H26: 10 | I26: =G26/F26 -> 4.8452381 | J26: =VLOOKUP(B26,bigboard2026!B:F,5,0) -> 1.88 | K26: =VLOOKUP(B26,bigboard2026!B:G,6,0) -> 104 | L26: =2026-VLOOKUP(B26,bigboard2026!B:H,7,0) -> 22

Sheet WR
A1: RANK | B1: NOMBRE | C1: POSICIÓN | D1: UNIVERSIDAD | E1: RONDA_ESTIMADA | F1: REC | G1: YRDS | H1: TD | I1: YR/REC | J1: ALT | K1: PESO | L1: EDAD
A2: =VLOOKUP(B2,bigboard2026!B:O,14,0) -> 9 | B2: Carnell Tate | C2: WR | D2: Ohio State | E2: =VLOOKUP(B2,Tabla1[[NOMBRE]:[RONDA_ESTIMADA]],4,0) -> R1 | F2: 51 | G2: 875 | H2: 9 | I2: =G2/F2 -> 17.156863 | J2: =VLOOKUP($B2,bigboard2026!B:F,5,0) -> 1.91 | K2: =VLOOKUP($B2,bigboard2026!B:G,6,0) -> 88 | L2: =2026-VLOOKUP($B2,bigboard2026!B:H,7,0) -> 21
A3: =VLOOKUP(B3,bigboard2026!B:O,14,0) -> 12 | B3: Makai Lemon | C3: WR | D3: USC | E3: =VLOOKUP(B3,Tabla1[[NOMBRE]:[RONDA_ESTIMADA]],4,0) -> R1 | F3: 79 | G3: 1156 | H3: 11 | I3: =G3/F3 -> 14.632911 | J3: =VLOOKUP($B3,bigboard2026!B:F,5,0) -> 1.8 | K3: =VLOOKUP($B3,bigboard2026!B:G,6,0) -> 88 | L3: =2026-VLOOKUP($B3,bigboard2026!B:H,7,0) -> 22
A4: =VLOOKUP(B4,bigboard2026!B:O,14,0) -> 17 | B4: Jordyn Tyson | C4: WR | D4: Arizona State | E4: =VLOOKUP(B4,Tabla1[[NOMBRE]:[RONDA_ESTIMADA]],4,0) -> R1 | F4: 61 | G4: 711 | H4: 8 | I4: =G4/F4 -> 11.655738 | J4: =VLOOKUP($B4,bigboard2026!B:F,5,0) -> 1.88 | K4: =VLOOKUP($B4,bigboard2026!B:G,6,0) -> 90 | L4: =2026-VLOOKUP($B4,bigboard2026!B:H,7,0) -> 22
A5: =VLOOKUP(B5,bigboard2026!B:O,14,0) -> 25 | B5: Omar Cooper Jr. | C5: WR | D5: Indiana | E5: =VLOOKUP(B5,Tabla1[[NOMBRE]:[RONDA_ESTIMADA]],4,0) -> R1 | F5: 69 | G5: 937 | H5: 13 | I5: =G5/F5 -> 13.57971 | J5: =VLOOKUP($B5,bigboard2026!B:F,5,0) -> 1.83 | K5: =VLOOKUP($B5,bigboard2026!B:G,6,0) -> 91 | L5: =2026-VLOOKUP($B5,bigboard2026!B:H,7,0) -> 23
A6: =VLOOKUP(B6,bigboard2026!B:O,14,0) -> 31 | B6: Denzel Boston | C6: WR | D6: Washington | E6: =VLOOKUP(B6,Tabla1[[NOMBRE]:[RONDA_ESTIMADA]],4,0) -> R1 | F6: 62 | G6: 881 | H6: 11 | I6: =G6/F6 -> 14.209677 | J6: =VLOOKUP($B6,bigboard2026!B:F,5,0) -> 1.93 | K6: =VLOOKUP($B6,bigboard2026!B:G,6,0) -> 94 | L6: =2026-VLOOKUP($B6,bigboard2026!B:H,7,0) -> 23
A7: =VLOOKUP(B7,bigboard2026!B:O,14,0) -> 36 | B7: KC Concepcion | C7: WR | D7: Texas A&M | E7: =VLOOKUP(B7,Tabla1[[NOMBRE]:[RONDA_ESTIMADA]],4,0) -> R1 | F7: 61 | G7: 919 | H7: 9 | I7: =G7/F7 -> 15.065574 | J7: =VLOOKUP($B7,bigboard2026!B:F,5,0) -> 1.8 | K7: =VLOOKUP($B7,bigboard2026!B:G,6,0) -> 86 | L7: =2026-VLOOKUP($B7,bigboard2026!B:H,7,0) -> 22
A8: =VLOOKUP(B8,bigboard2026!B:O,14,0) -> 45 | B8: Chris Bell | C8: WR | D8: Louisville | E8: =VLOOKUP(B8,Tabla1[[NOMBRE]:[RONDA_ESTIMADA]],4,0) -> R2 | F8: 72 | G8: 917 | H8: 6 | I8: =G8/F8 -> 12.736111 | J8: =VLOOKUP($B8,bigboard2026!B:F,5,0) -> 1.88 | K8: =VLOOKUP($B8,bigboard2026!B:G,6,0) -> 99 | L8: =2026-VLOOKUP($B8,bigboard2026!B:H,7,0) -> 22
A9: =VLOOKUP(B9,bigboard2026!B:O,14,0) -> 49 | B9: Germie Bernard | C9: WR | D9: Alabama | E9: =VLOOKUP(B9,Tabla1[[NOMBRE]:[RONDA_ESTIMADA]],4,0) -> R2 | F9: 64 | G9: 862 | H9: 7 | I9: =G9/F9 -> 13.46875 | J9: =VLOOKUP($B9,bigboard2026!B:F,5,0) -> 1.85 | K9: =VLOOKUP($B9,bigboard2026!B:G,6,0) -> 92 | L9: =2026-VLOOKUP($B9,bigboard2026!B:H,7,0) -> 23
A10: =VLOOKUP(B10,bigboard2026!B:O,14,0) -> 57 | B10: Chris Brazzell II | C10: WR | D10: Tennessee | E10: =VLOOKUP(B10,Tabla1[[NOMBRE]:[RONDA_ESTIMADA]],4,0) -> R2 | F10: 62 | G10: 1017 | H10: 9 | I10: =G10/F10 -> 16.403226 | J10: =VLOOKUP($B10,bigboard2026!B:F,5,0) -> 1.96 | K10: =VLOOKUP($B10,bigboard2026!B:G,6,0) -> 90 | L10: =2026-VLOOKUP($B10,bigboard2026!B:H,7,0) -> 23
A11: =VLOOKUP(B11,bigboard2026!B:O,14,0) -> 59 | B11: Skyler Bell | C11: WR | D11: Uconn | E11: =VLOOKUP(B11,Tabla1[[NOMBRE]:[RONDA_ESTIMADA]],4,0) -> R2 | F11: 101 | G11: 1278 | H11: 13 | I11: =G11/F11 -> 12.653465 | J11: =VLOOKUP($B11,bigboard2026!B:F,5,0) -> 1.83 | K11: =VLOOKUP($B11,bigboard2026!B:G,6,0) -> 83 | L11: =2026-VLOOKUP($B11,bigboard2026!B:H,7,0) -> 24
A12: =VLOOKUP(B12,bigboard2026!B:O,14,0) -> 62 | B12: Bryce Lance | C12: WR | D12: North Dakota State | E12: =VLOOKUP(B12,Tabla1[[NOMBRE]:[RONDA_ESTIMADA]],4,0) -> R2 | F12: 51 | G12: 1079 | H12: 8 | I12: =G12/F12 -> 21.156863 | J12: =VLOOKUP($B12,bigboard2026!B:F,5,0) -> 1.91 | K12: =VLOOKUP($B12,bigboard2026!B:G,6,0) -> 94 | L12: =2026-VLOOKUP($B12,bigboard2026!B:H,7,0) -> 24
A13: =VLOOKUP(B13,bigboard2026!B:O,14,0) -> 67 | B13: Antonio Williams | C13: WR | D13: Clemson | E13: =VLOOKUP(B13,Tabla1[[NOMBRE]:[RONDA_ESTIMADA]],4,0) -> R2 | F13: 55 | G13: 604 | H13: 4 | I13: =G13/F13 -> 10.981818 | J13: =VLOOKUP($B13,bigboard2026!B:F,5,0) -> 1.8 | K13: =VLOOKUP($B13,bigboard2026!B:G,6,0) -> 86 | L13: =2026-VLOOKUP($B13,bigboard2026!B:H,7,0) -> 22
... A49: =VLOOKUP(B49,bigboard2026!B:O,14,0) -> 0 | B49: Jalen Walthall | C49: WR | D49: Incarnate Word | E49: =VLOOKUP(B49,Tabla1[[NOMBRE]:[RONDA_ESTIMADA]],4,0) -> UDFA | F49: 70 | G49: 847 | H49: 8 | I49: =G49/F49 -> 12.1 | J49: =VLOOKUP($B49,bigboard2026!B:F,5,0) -> 1.88 | K49: =VLOOKUP($B49,bigboard2026!B:G,6,0) -> 82 | L49: =2026-VLOOKUP($B49,bigboard2026!B:H,7,0) -> 24

Sheet TE
A1: RANK | B1: NOMBRE | C1: POSICIÓN | D1: UNIVERSIDAD | E1: RONDA_ESTIMADA | F1: REC | G1: YRDS | H1: TD | I1: YR/REC | K1: ALT | L1: PESO | M1: EDAD
A2: =VLOOKUP(B2,bigboard2026!B:O,14,0) -> 18 | B2: Kenyon Sadiq | C2: TE | D2: Oregon | E2: =VLOOKUP(B2,Tabla1[[NOMBRE]:[RONDA_ESTIMADA]],4,0) -> R1 | F2: 51 | G2: 560 | H2: 8 | I2: =G2/F2 -> 10.980392 | K2: =VLOOKUP($B2,bigboard2026!B:F,5,0) -> 1.91 | L2: =VLOOKUP($B2,bigboard2026!B:G,6,0) -> 111 | M2: =2026-VLOOKUP($B2,bigboard2026!B:H,7,0) -> 21
A3: =VLOOKUP(B3,bigboard2026!B:O,14,0) -> 53 | B3: Eli Stowers | C3: TE | D3: Vanderbilt | E3: =VLOOKUP(B3,Tabla1[[NOMBRE]:[RONDA_ESTIMADA]],4,0) -> R2 | F3: 62 | G3: 769 | H3: 4 | I3: =G3/F3 -> 12.403226 | K3: =VLOOKUP($B3,bigboard2026!B:F,5,0) -> 1.93 | L3: =VLOOKUP($B3,bigboard2026!B:G,6,0) -> 106 | M3: =2026-VLOOKUP($B3,bigboard2026!B:H,7,0) -> 23
A4: =VLOOKUP(B4,bigboard2026!B:O,14,0) -> 80 | B4: Max Klare | C4: TE | D4: Ohio State | E4: =VLOOKUP(B4,Tabla1[[NOMBRE]:[RONDA_ESTIMADA]],4,0) -> R2 | F4: 43 | G4: 448 | H4: 2 | I4: =G4/F4 -> 10.418605 | K4: =VLOOKUP($B4,bigboard2026!B:F,5,0) -> 1.96 | L4: =VLOOKUP($B4,bigboard2026!B:G,6,0) -> 110 | M4: =2026-VLOOKUP($B4,bigboard2026!B:H,7,0) -> 23
A5: =VLOOKUP(B5,bigboard2026!B:O,14,0) -> 89 | B5: Sam Roush | C5: TE | D5: Stanford | E5: =VLOOKUP(B5,Tabla1[[NOMBRE]:[RONDA_ESTIMADA]],4,0) -> R3 | F5: 49 | G5: 545 | H5: 2 | I5: =G5/F5 -> 11.122449 | K5: =VLOOKUP($B5,bigboard2026!B:F,5,0) -> 1.96 | L5: =VLOOKUP($B5,bigboard2026!B:G,6,0) -> 117 | M5: =2026-VLOOKUP($B5,bigboard2026!B:H,7,0) -> 23
A6: =VLOOKUP(B6,bigboard2026!B:O,14,0) -> 103 | B6: Michael Trigg | C6: TE | D6: Baylor | E6: =VLOOKUP(B6,Tabla1[[NOMBRE]:[RONDA_ESTIMADA]],4,0) -> R3 | F6: 50 | G6: 694 | H6: 6 | I6: =G6/F6 -> 13.88 | K6: =VLOOKUP($B6,bigboard2026!B:F,5,0) -> 1.93 | L6: =VLOOKUP($B6,bigboard2026!B:G,6,0) -> 108 | M6: =2026-VLOOKUP($B6,bigboard2026!B:H,7,0) -> 24
A7: =VLOOKUP(B7,bigboard2026!B:O,14,0) -> 126 | B7: Justin Joly | C7: TE | D7: NC State | E7: =VLOOKUP(B7,Tabla1[[NOMBRE]:[RONDA_ESTIMADA]],4,0) -> R4 | F7: 49 | G7: 489 | H7: 7 | I7: =G7/F7 -> 9.9795918 | K7: =VLOOKUP($B7,bigboard2026!B:F,5,0) -> 1.94 | L7: =VLOOKUP($B7,bigboard2026!B:G,6,0) -> 113 | M7: =2026-VLOOKUP($B7,bigboard2026!B:H,7,0) -> 22
A8: =VLOOKUP(B8,bigboard2026!B:O,14,0) -> 128 | B8: Jack Endries | C8: TE | D8: Texas | E8: =VLOOKUP(B8,Tabla1[[NOMBRE]:[RONDA_ESTIMADA]],4,0) -> R4 | F8: 33 | G8: 346 | H8: 3 | I8: =G8/F8 -> 10.484848 | K8: =VLOOKUP($B8,bigboard2026!B:F,5,0) -> 1.93 | L8: =VLOOKUP($B8,bigboard2026!B:G,6,0) -> 108 | M8: =2026-VLOOKUP($B8,bigboard2026!B:H,7,0) -> 22
A9: =VLOOKUP(B9,bigboard2026!B:O,14,0) -> 142 | B9: Marlin Klein | C9: TE | D9: Michigan | E9: =VLOOKUP(B9,Tabla1[[NOMBRE]:[RONDA_ESTIMADA]],4,0) -> R4 | F9: 24 | G9: 248 | H9: 1 | I9: =G9/F9 -> 10.333333 | K9: =VLOOKUP($B9,bigboard2026!B:F,5,0) -> 1.98 | L9: =VLOOKUP($B9,bigboard2026!B:G,6,0) -> 113 | M9: =2026-VLOOKUP($B9,bigboard2026!B:H,7,0) -> 24
A10: =VLOOKUP(B10,bigboard2026!B:O,14,0) -> 146 | B10: Dallen Bentley | C10: TE | D10: Utah | E10: =VLOOKUP(B10,Tabla1[[NOMBRE]:[RONDA_ESTIMADA]],4,0) -> R4 | F10: 48 | G10: 620 | H10: 6 | I10: =G10/F10 -> 12.916667 | K10: =VLOOKUP($B10,bigboard2026!B:F,5,0) -> 1.93 | L10: =VLOOKUP($B10,bigboard2026!B:G,6,0) -> 119 | M10: =2026-VLOOKUP($B10,bigboard2026!B:H,7,0) -> 26
A11: =VLOOKUP(B11,bigboard2026!B:O,14,0) -> 153 | B11: Joe Royer | C11: TE | D11: Cincinnati | E11: =VLOOKUP(B11,Tabla1[[NOMBRE]:[RONDA_ESTIMADA]],4,0) -> R4 | F11: 29 | G11: 416 | H11: 4 | I11: =G11/F11 -> 14.344828 | K11: =VLOOKUP($B11,bigboard2026!B:F,5,0) -> 1.96 | L11: =VLOOKUP($B11,bigboard2026!B:G,6,0) -> 113 | M11: =2026-VLOOKUP($B11,bigboard2026!B:H,7,0) -> 24
A12: =VLOOKUP(B12,bigboard2026!B:O,14,0) -> 154 | B12: Eli Raridon | C12: TE | D12: Notre Dame | E12: =VLOOKUP(B12,Tabla1[[NOMBRE]:[RONDA_ESTIMADA]],4,0) -> R4 | F12: 32 | G12: 482 | H12: 0 | I12: =G12/F12 -> 15.0625 | K12: =VLOOKUP($B12,bigboard2026!B:F,5,0) -> 2.01 | L12: =VLOOKUP($B12,bigboard2026!B:G,6,0) -> 113 | M12: =2026-VLOOKUP($B12,bigboard2026!B:H,7,0) -> 22
A13: =VLOOKUP(B13,bigboard2026!B:O,14,0) -> 165 | B13: Nate Boerkircher | C13: TE | D13: Texas A&M | E13: =VLOOKUP(B13,Tabla1[[NOMBRE]:[RONDA_ESTIMADA]],4,0) -> R5 | F13: 19 | G13: 198 | H13: 3 | I13: =G13/F13 -> 10.421053 | K13: =VLOOKUP($B13,bigboard2026!B:F,5,0) -> 1.93 | L13: =VLOOKUP($B13,bigboard2026!B:G,6,0) -> 113 | M13: =2026-VLOOKUP($B13,bigboard2026!B:H,7,0) -> 25
... A28: =VLOOKUP(B28,bigboard2026!B:O,14,0) -> 0 | B28: Jaren Kanak | C28: TE | D28: Oklahoma | E28: =VLOOKUP(B28,Tabla1[[NOMBRE]:[RONDA_ESTIMADA]],4,0) -> UDFA | F28: 44 | G28: 533 | H28: 0 | I28: =G28/F28 -> 12.113636 | K28: =VLOOKUP($B28,bigboard2026!B:F,5,0) -> 1.88 | L28: =VLOOKUP($B28,bigboard2026!B:G,6,0) -> 105 | M28: =2026-VLOOKUP($B28,bigboard2026!B:H,7,0) -> 22
A29: =VLOOKUP(B29,bigboard2026!B:O,14,0) -> 0 | B29: Carlos Anaya | C29: TE | D29: Colorado State | E29: =VLOOKUP(B29,Tabla1[[NOMBRE]:[RONDA_ESTIMADA]],4,0) -> UDFA | F29: 7 | G29: 82 | H29: 0 | I29: =G29/F29 -> 11.714286 | J29: 2024 | K29: =VLOOKUP($B29,bigboard2026!B:F,5,0) -> 1.98 | L29: =VLOOKUP($B29,bigboard2026!B:G,6,0) -> 108 | M29: =2026-VLOOKUP($B29,bigboard2026!B:H,7,0) -> 23

Sheet OT
A1: RANK | B1: NOMBRE | C1: POSICIÓN | D1: UNIVERSIDAD | E1: RONDA_ESTIMADA | F1: ALT | G1: PESO | H1: EDAD
A2: =VLOOKUP(B2,bigboard2026!B:O,14,0) -> 8 | B2: Francis Mauigoa | C2: OT | D2: Miami | E2: =VLOOKUP(B2,Tabla1[[NOMBRE]:[RONDA_ESTIMADA]],4,0) -> R1 | F2: =VLOOKUP($B2,bigboard2026!B:F,5,0) -> 1.96 | G2: =VLOOKUP($B2,bigboard2026!B:G,6,0) -> 149 | H2: =2026-VLOOKUP($B2,bigboard2026!B:H,7,0) -> 21
A3: =VLOOKUP(B3,bigboard2026!B:O,14,0) -> 13 | B3: Monroe Freeling | C3: OT | D3: Georgia | E3: =VLOOKUP(B3,Tabla1[[NOMBRE]:[RONDA_ESTIMADA]],4,0) -> R1 | F3: =VLOOKUP($B3,bigboard2026!B:F,5,0) -> 2.01 | G3: =VLOOKUP($B3,bigboard2026!B:G,6,0) -> 143 | H3: =2026-VLOOKUP($B3,bigboard2026!B:H,7,0) -> 22
A4: =VLOOKUP(B4,bigboard2026!B:O,14,0) -> 14 | B4: Spencer Fano | C4: OT | D4: Utah | E4: =VLOOKUP(B4,Tabla1[[NOMBRE]:[RONDA_ESTIMADA]],4,0) -> R1 | F4: =VLOOKUP($B4,bigboard2026!B:F,5,0) -> 1.96 | G4: =VLOOKUP($B4,bigboard2026!B:G,6,0) -> 141 | H4: =2026-VLOOKUP($B4,bigboard2026!B:H,7,0) -> 22
A5: =VLOOKUP(B5,bigboard2026!B:O,14,0) -> 24 | B5: Kadyn Proctor | C5: OT | D5: Alabama | E5: =VLOOKUP(B5,Tabla1[[NOMBRE]:[RONDA_ESTIMADA]],4,0) -> R1 | F5: =VLOOKUP($B5,bigboard2026!B:F,5,0) -> 2.01 | G5: =VLOOKUP($B5,bigboard2026!B:G,6,0) -> 160 | H5: =2026-VLOOKUP($B5,bigboard2026!B:H,7,0) -> 21
A6: =VLOOKUP(B6,bigboard2026!B:O,14,0) -> 26 | B6: Blake Miller | C6: OT | D6: Clemson | E6: =VLOOKUP(B6,Tabla1[[NOMBRE]:[RONDA_ESTIMADA]],4,0) -> R1 | F6: =VLOOKUP($B6,bigboard2026!B:F,5,0) -> 2.01 | G6: =VLOOKUP($B6,bigboard2026!B:G,6,0) -> 143 | H6: =2026-VLOOKUP($B6,bigboard2026!B:H,7,0) -> 22
A7: =VLOOKUP(B7,bigboard2026!B:O,14,0) -> 30 | B7: Max Iheanachor | C7: OT | D7: Arizona State | E7: =VLOOKUP(B7,Tabla1[[NOMBRE]:[RONDA_ESTIMADA]],4,0) -> R1 | F7: =VLOOKUP($B7,bigboard2026!B:F,5,0) -> 1.98 | G7: =VLOOKUP($B7,bigboard2026!B:G,6,0) -> 150 | H7: =2026-VLOOKUP($B7,bigboard2026!B:H,7,0) -> 22
A8: =VLOOKUP(B8,bigboard2026!B:O,14,0) -> 38 | B8: Caleb Lomu | C8: OT | D8: Utah | E8: =VLOOKUP(B8,Tabla1[[NOMBRE]:[RONDA_ESTIMADA]],4,0) -> R1 | F8: =VLOOKUP($B8,bigboard2026!B:F,5,0) -> 1.98 | G8: =VLOOKUP($B8,bigboard2026!B:G,6,0) -> 142 | H8: =2026-VLOOKUP($B8,bigboard2026!B:H,7,0) -> 24
A9: =VLOOKUP(B9,bigboard2026!B:O,14,0) -> 69 | B9: Caleb Tiernan | C9: OT | D9: Northwestern | E9: =VLOOKUP(B9,Tabla1[[NOMBRE]:[RONDA_ESTIMADA]],4,0) -> R2 | F9: =VLOOKUP($B9,bigboard2026!B:F,5,0) -> 2.03 | G9: =VLOOKUP($B9,bigboard2026!B:G,6,0) -> 147 | H9: =2026-VLOOKUP($B9,bigboard2026!B:H,7,0) -> 23
A10: =VLOOKUP(B10,bigboard2026!B:O,14,0) -> 101 | B10: Markel Bell | C10: OT | D10: Miami | E10: =VLOOKUP(B10,Tabla1[[NOMBRE]:[RONDA_ESTIMADA]],4,0) -> R3 | F10: =VLOOKUP($B10,bigboard2026!B:F,5,0) -> 2.06 | G10: =VLOOKUP($B10,bigboard2026!B:G,6,0) -> 157 | H10: =2026-VLOOKUP($B10,bigboard2026!B:H,7,0) -> 24
A11: =VLOOKUP(B11,bigboard2026!B:O,14,0) -> 113 | B11: Demetrious Crownover | C11: OT | D11: Texas A&M | E11: =VLOOKUP(B11,Tabla1[[NOMBRE]:[RONDA_ESTIMADA]],4,0) -> R3 | F11: =VLOOKUP($B11,bigboard2026!B:F,5,0) -> 2.01 | G11: =VLOOKUP($B11,bigboard2026!B:G,6,0) -> 145 | H11: =2026-VLOOKUP($B11,bigboard2026!B:H,7,0) -> 24
A12: =VLOOKUP(B12,bigboard2026!B:O,14,0) -> 120 | B12: Kage Casey | C12: OT | D12: Boise State | E12: =VLOOKUP(B12,Tabla1[[NOMBRE]:[RONDA_ESTIMADA]],4,0) -> R3 | F12: =VLOOKUP($B12,bigboard2026!B:F,5,0) -> 1.96 | G12: =VLOOKUP($B12,bigboard2026!B:G,6,0) -> 141 | H12: =2026-VLOOKUP($B12,bigboard2026!B:H,7,0) -> 23
A13: =VLOOKUP(B13,bigboard2026!B:O,14,0) -> 132 | B13: JC Davis | C13: OT | D13: Illinois | E13: =VLOOKUP(B13,Tabla1[[NOMBRE]:[RONDA_ESTIMADA]],4,0) -> R4 | F13: =VLOOKUP($B13,bigboard2026!B:F,5,0) -> 1.96 | G13: =VLOOKUP($B13,bigboard2026!B:G,6,0) -> 145 | H13: =2026-VLOOKUP($B13,bigboard2026!B:H,7,0) -> 23
... A28: =VLOOKUP(B28,bigboard2026!B:O,14,0) -> 0 | B28: Travis Burke | C28: OT | D28: Memphis | E28: =VLOOKUP(B28,Tabla1[[NOMBRE]:[RONDA_ESTIMADA]],4,0) -> UDFA | F28: =VLOOKUP($B28,bigboard2026!B:F,5,0) -> 2.06 | G28: =VLOOKUP($B28,bigboard2026!B:G,6,0) -> 142 | H28: =2026-VLOOKUP($B28,bigboard2026!B:H,7,0) -> 24

Sheet OG
A1: RANK | B1: NOMBRE | C1: POSICIÓN | D1: UNIVERSIDAD | E1: RONDA_ESTIMADA | F1: ALT | G1: PESO | H1: EDAD
A2: =VLOOKUP(B2,bigboard2026!B:O,14,0) -> 15 | B2: Olaivavega Ioane | C2: G | D2: Penn State | E2: =VLOOKUP(B2,Tabla1[[NOMBRE]:[RONDA_ESTIMADA]],4,0) -> R1 | F2: =VLOOKUP($B2,bigboard2026!B:F,5,0) -> 1.93 | G2: =VLOOKUP($B2,bigboard2026!B:G,6,0) -> 145 | H2: =2026-VLOOKUP($B2,bigboard2026!B:H,7,0) -> 22
A3: =VLOOKUP(B3,bigboard2026!B:O,14,0) -> 40 | B3: Emmanuel Pregnon | C3: G | D3: Oregon | E3: =VLOOKUP(B3,Tabla1[[NOMBRE]:[RONDA_ESTIMADA]],4,0) -> R1 | F3: =VLOOKUP($B3,bigboard2026!B:F,5,0) -> 1.93 | G3: =VLOOKUP($B3,bigboard2026!B:G,6,0) -> 142 | H3: =2026-VLOOKUP($B3,bigboard2026!B:H,7,0) -> 24
A4: =VLOOKUP(B4,bigboard2026!B:O,14,0) -> 48 | B4: Chase Bisontis | C4: G | D4: Texas A&M | E4: =VLOOKUP(B4,Tabla1[[NOMBRE]:[RONDA_ESTIMADA]],4,0) -> R2 | F4: =VLOOKUP($B4,bigboard2026!B:F,5,0) -> 1.96 | G4: =VLOOKUP($B4,bigboard2026!B:G,6,0) -> 143 | H4: =2026-VLOOKUP($B4,bigboard2026!B:H,7,0) -> 22
A5: =VLOOKUP(B5,bigboard2026!B:O,14,0) -> 60 | B5: Gennings Dunker | C5: G | D5: Iowa | E5: =VLOOKUP(B5,Tabla1[[NOMBRE]:[RONDA_ESTIMADA]],4,0) -> R2 | F5: =VLOOKUP($B5,bigboard2026!B:F,5,0) -> 1.96 | G5: =VLOOKUP($B5,bigboard2026!B:G,6,0) -> 145 | H5: =2026-VLOOKUP($B5,bigboard2026!B:H,7,0) -> 23
A6: =VLOOKUP(B6,bigboard2026!B:O,14,0) -> 74 | B6: Keylan Rutledge | C6: G | D6: Georgia Tech | E6: =VLOOKUP(B6,Tabla1[[NOMBRE]:[RONDA_ESTIMADA]],4,0) -> R2 | F6: =VLOOKUP($B6,bigboard2026!B:F,5,0) -> 1.93 | G6: =VLOOKUP($B6,bigboard2026!B:G,6,0) -> 143 | H6: =2026-VLOOKUP($B6,bigboard2026!B:H,7,0) -> 23
A7: =VLOOKUP(B7,bigboard2026!B:O,14,0) -> 88 | B7: Jalen Farmer | C7: G | D7: Kentucky | E7: =VLOOKUP(B7,Tabla1[[NOMBRE]:[RONDA_ESTIMADA]],4,0) -> R3 | F7: =VLOOKUP($B7,bigboard2026!B:F,5,0) -> 1.96 | G7: =VLOOKUP($B7,bigboard2026!B:G,6,0) -> 142 | H7: =2026-VLOOKUP($B7,bigboard2026!B:H,7,0) -> 22
A8: =VLOOKUP(B8,bigboard2026!B:O,14,0) -> 118 | B8: Billy Schrauth | C8: G | D8: Notre Dame | E8: =VLOOKUP(B8,Tabla1[[NOMBRE]:[RONDA_ESTIMADA]],4,0) -> R3 | F8: =VLOOKUP($B8,bigboard2026!B:F,5,0) -> 1.93 | G8: =VLOOKUP($B8,bigboard2026!B:G,6,0) -> 138 | H8: =2026-VLOOKUP($B8,bigboard2026!B:H,7,0) -> 23
A9: =VLOOKUP(B9,bigboard2026!B:O,14,0) -> 139 | B9: Beau Stephen | C9: G | D9: Iowa | E9: =VLOOKUP(B9,Tabla1[[NOMBRE]:[RONDA_ESTIMADA]],4,0) -> R4 | F9: =VLOOKUP($B9,bigboard2026!B:F,5,0) -> 1.96 | G9: =VLOOKUP($B9,bigboard2026!B:G,6,0) -> 143 | H9: =2026-VLOOKUP($B9,bigboard2026!B:H,7,0) -> 23
A10: =VLOOKUP(B10,bigboard2026!B:O,14,0) -> 158 | B10: Jeremiah Wright | C10: G | D10: Auburn | E10: =VLOOKUP(B10,Tabla1[[NOMBRE]:[RONDA_ESTIMADA]],4,0) -> R4 | F10: =VLOOKUP($B10,bigboard2026!B:F,5,0) -> 1.96 | G10: =VLOOKUP($B10,bigboard2026!B:G,6,0) -> 153 | H10: =2026-VLOOKUP($B10,bigboard2026!B:H,7,0) -> 24
A11: =VLOOKUP(B11,bigboard2026!B:O,14,0) -> 173 | B11: DJ Campbell | C11: G | D11: Texas | E11: =VLOOKUP(B11,Tabla1[[NOMBRE]:[RONDA_ESTIMADA]],4,0) -> R5 | F11: =VLOOKUP($B11,bigboard2026!B:F,5,0) -> 1.78 | G11: =VLOOKUP($B11,bigboard2026!B:G,6,0) -> 145 | H11: =2026-VLOOKUP($B11,bigboard2026!B:H,7,0) -> 23
A12: =VLOOKUP(B12,bigboard2026!B:O,14,0) -> 180 | B12: Jaeden Roberts | C12: G | D12: Alabama | E12: =VLOOKUP(B12,Tabla1[[NOMBRE]:[RONDA_ESTIMADA]],4,0) -> R5 | F12: =VLOOKUP($B12,bigboard2026!B:F,5,0) -> 1.96 | G12: =VLOOKUP($B12,bigboard2026!B:G,6,0) -> 148 | H12: =2026-VLOOKUP($B12,bigboard2026!B:H,7,0) -> 24
A13: =VLOOKUP(B13,bigboard2026!B:O,14,0) -> 191 | B13: Ar'Maj Reed-Adams | C13: G | D13: Texas A&M | E13: =VLOOKUP(B13,Tabla1[[NOMBRE]:[RONDA_ESTIMADA]],4,0) -> R5 | F13: =VLOOKUP($B13,bigboard2026!B:F,5,0) -> 1.96 | G13: =VLOOKUP($B13,bigboard2026!B:G,6,0) -> 154 | H13: =2026-VLOOKUP($B13,bigboard2026!B:H,7,0) -> 25
... A26: =VLOOKUP(B26,bigboard2026!B:O,14,0) -> 0 | B26: Alex Foster | C26: G | D26: Colorado State | E26: =VLOOKUP(B26,Tabla1[[NOMBRE]:[RONDA_ESTIMADA]],4,0) -> UDFA | F26: =VLOOKUP($B26,bigboard2026!B:F,5,0) -> 1.93 | G26: =VLOOKUP($B26,bigboard2026!B:G,6,0) -> 138 | H26: =2026-VLOOKUP($B26,bigboard2026!B:H,7,0) -> 24

Sheet C
A1: RANK | B1: NOMBRE | C1: POSICIÓN | D1: UNIVERSIDAD | E1: RONDA_ESTIMADA | F1: ALT | G1: PESO | H1: EDAD
A2: =VLOOKUP(B2,bigboard2026!B:O,14,0) -> 77 | B2: Connor Lew | C2: C | D2: Auburn | E2: =VLOOKUP(B2,Tabla1[[NOMBRE]:[RONDA_ESTIMADA]],4,0) -> R2 | F2: =VLOOKUP($B2,bigboard2026!B:F,5,0) -> 1.91 | G2: =VLOOKUP($B2,bigboard2026!B:G,6,0) -> 141 | H2: =2026-VLOOKUP($B2,bigboard2026!B:H,7,0) -> 21
A3: =VLOOKUP(B3,bigboard2026!B:O,14,0) -> 90 | B3: Sam Hecht | C3: C | D3: Kansas State | E3: =VLOOKUP(B3,Tabla1[[NOMBRE]:[RONDA_ESTIMADA]],4,0) -> R3 | F3: =VLOOKUP($B3,bigboard2026!B:F,5,0) -> 1.93 | G3: =VLOOKUP($B3,bigboard2026!B:G,6,0) -> 136 | H3: =2026-VLOOKUP($B3,bigboard2026!B:H,7,0) -> 23
A4: =VLOOKUP(B4,bigboard2026!B:O,14,0) -> 93 | B4: Jake Slaughter | C4: C | D4: Florida | E4: =VLOOKUP(B4,Tabla1[[NOMBRE]:[RONDA_ESTIMADA]],4,0) -> R3 | F4: =VLOOKUP($B4,bigboard2026!B:F,5,0) -> 1.93 | G4: =VLOOKUP($B4,bigboard2026!B:G,6,0) -> 140 | H4: =2026-VLOOKUP($B4,bigboard2026!B:H,7,0) -> 24
A5: =VLOOKUP(B5,bigboard2026!B:O,14,0) -> 94 | B5: Logan Jones | C5: C | D5: Iowa | E5: =VLOOKUP(B5,Tabla1[[NOMBRE]:[RONDA_ESTIMADA]],4,0) -> R3 | F5: =VLOOKUP($B5,bigboard2026!B:F,5,0) -> 1.91 | G5: =VLOOKUP($B5,bigboard2026!B:G,6,0) -> 137 | H5: =2026-VLOOKUP($B5,bigboard2026!B:H,7,0) -> 25
A6: =VLOOKUP(B6,bigboard2026!B:O,14,0) -> 134 | B6: Brian Parker II | C6: C | D6: Duke | E6: =VLOOKUP(B6,Tabla1[[NOMBRE]:[RONDA_ESTIMADA]],4,0) -> R4 | F6: =VLOOKUP($B6,bigboard2026!B:F,5,0) -> 1.96 | G6: =VLOOKUP($B6,bigboard2026!B:G,6,0) -> 138 | H6: =2026-VLOOKUP($B6,bigboard2026!B:H,7,0) -> 23
A7: =VLOOKUP(B7,bigboard2026!B:O,14,0) -> 145 | B7: Jager Burton | C7: C | D7: Kentucky | E7: =VLOOKUP(B7,Tabla1[[NOMBRE]:[RONDA_ESTIMADA]],4,0) -> R4 | F7: =VLOOKUP($B7,bigboard2026!B:F,5,0) -> 1.93 | G7: =VLOOKUP($B7,bigboard2026!B:G,6,0) -> 142 | H7: =2026-VLOOKUP($B7,bigboard2026!B:H,7,0) -> 24
A8: =VLOOKUP(B8,bigboard2026!B:O,14,0) -> 147 | B8: Trey Zuhn III | C8: C | D8: Texas A&M | E8: =VLOOKUP(B8,Tabla1[[NOMBRE]:[RONDA_ESTIMADA]],4,0) -> R4 | F8: =VLOOKUP($B8,bigboard2026!B:F,5,0) -> 1.98 | G8: =VLOOKUP($B8,bigboard2026!B:G,6,0) -> 142 | H8: =2026-VLOOKUP($B8,bigboard2026!B:H,7,0) -> 24
A9: =VLOOKUP(B9,bigboard2026!B:O,14,0) -> 200 | B9: Pat Coogan | C9: C | D9: Indiana | E9: =VLOOKUP(B9,Tabla1[[NOMBRE]:[RONDA_ESTIMADA]],4,0) -> R5 | F9: =VLOOKUP($B9,bigboard2026!B:F,5,0) -> 1.96 | G9: =VLOOKUP($B9,bigboard2026!B:G,6,0) -> 141 | H9: =2026-VLOOKUP($B9,bigboard2026!B:H,7,0) -> 24
A10: =VLOOKUP(B10,bigboard2026!B:O,14,0) -> 0 | B10: Parker Brailsford | C10: C | D10: Alabama | E10: =VLOOKUP(B10,Tabla1[[NOMBRE]:[RONDA_ESTIMADA]],4,0) -> UDFA | F10: =VLOOKUP($B10,bigboard2026!B:F,5,0) -> 1.88 | G10: =VLOOKUP($B10,bigboard2026!B:G,6,0) -> 132 | H10: =2026-VLOOKUP($B10,bigboard2026!B:H,7,0) -> 23
A11: =VLOOKUP(B11,bigboard2026!B:O,14,0) -> 0 | B11: Matt Gulbin | C11: C | D11: Michigan State | E11: =VLOOKUP(B11,Tabla1[[NOMBRE]:[RONDA_ESTIMADA]],4,0) -> UDFA | F11: =VLOOKUP($B11,bigboard2026!B:F,5,0) -> 1.93 | G11: =VLOOKUP($B11,bigboard2026!B:G,6,0) -> 142 | H11: =2026-VLOOKUP($B11,bigboard2026!B:H,7,0) -> 24
A12: =VLOOKUP(B12,bigboard2026!B:O,14,0) -> 0 | B12: Trevyn Heil | C12: C | D12: Colorado State | E12: =VLOOKUP(B12,Tabla1[[NOMBRE]:[RONDA_ESTIMADA]],4,0) -> UDFA | F12: =VLOOKUP($B12,bigboard2026!B:F,5,0) -> 1.88 | G12: =VLOOKUP($B12,bigboard2026!B:G,6,0) -> 136 | H12: =2026-VLOOKUP($B12,bigboard2026!B:H,7,0) -> 24

Sheet DT
A1: RANK | B1: NOMBRE | C1: POSICIÓN | D1: UNIVERSIDAD | E1: RONDA_ESTIMADA | F1: SOLO | G1: ASIS | H1: SACK | I1: FF | J1: INT | K1: PD | L1: TOT/TK | N1: ALT | O1: PESO | P1: EDAD
A2: =VLOOKUP(B2,bigboard2026!B:O,14,0) -> 28 | B2: Kayden McDonald | C2: DT | D2: Ohio State | E2: =VLOOKUP(B2,Tabla1[[NOMBRE]:[RONDA_ESTIMADA]],4,0) -> R1 | F2: 31 | G2: 34 | H2: 3 | I2: 2 | J2: 0 | K2: 1 | L2: =F2+G2 -> 65 | N2: =VLOOKUP($B2,bigboard2026!B:F,5,0) -> 1.88 | O2: =VLOOKUP($B2,bigboard2026!B:G,6,0) -> 148 | P2: =2026-VLOOKUP($B2,bigboard2026!B:H,7,0) -> 21
A3: =VLOOKUP(B3,bigboard2026!B:O,14,0) -> 33 | B3: Caleb Banks | C3: DT | D3: Florida | E3: =VLOOKUP(B3,Tabla1[[NOMBRE]:[RONDA_ESTIMADA]],4,0) -> R1 | F3: 10 | G3: 11 | H3: 4.5 | I3: 1 | J3: 0 | K3: 1 | L3: =F3+G3 -> 21 | M3: 2024 | N3: =VLOOKUP($B3,bigboard2026!B:F,5,0) -> 1.93 | O3: =VLOOKUP($B3,bigboard2026!B:G,6,0) -> 148 | P3: =2026-VLOOKUP($B3,bigboard2026!B:H,7,0) -> 23
A4: =VLOOKUP(B4,bigboard2026!B:O,14,0) -> 34 | B4: Peter Woods | C4: DT | D4: Clemson | E4: =VLOOKUP(B4,Tabla1[[NOMBRE]:[RONDA_ESTIMADA]],4,0) -> R1 | F4: 9 | G4: 21 | H4: 2 | I4: 0 | J4: 0 | K4: 1 | L4: =F4+G4 -> 30 | N4: =VLOOKUP($B4,bigboard2026!B:F,5,0) -> 1.91 | O4: =VLOOKUP($B4,bigboard2026!B:G,6,0) -> 142 | P4: =2026-VLOOKUP($B4,bigboard2026!B:H,7,0) -> 21
A5: =VLOOKUP(B5,bigboard2026!B:O,14,0) -> 37 | B5: Christen Miller | C5: DT | D5: Georgia | E5: =VLOOKUP(B5,Tabla1[[NOMBRE]:[RONDA_ESTIMADA]],4,0) -> R1 | F5: 10 | G5: 13 | H5: 1.5 | I5: 0 | J5: 0 | K5: 0 | L5: =F5+G5 -> 23 | N5: =VLOOKUP($B5,bigboard2026!B:F,5,0) -> 1.93 | O5: =VLOOKUP($B5,bigboard2026!B:G,6,0) -> 146 | P5: =2026-VLOOKUP($B5,bigboard2026!B:H,7,0) -> 22
A6: =VLOOKUP(B6,bigboard2026!B:O,14,0) -> 41 | B6: Lee Hunter | C6: DT | D6: Texas Tech | E6: =VLOOKUP(B6,Tabla1[[NOMBRE]:[RONDA_ESTIMADA]],4,0) -> R2 | F6: 16 | G6: 25 | H6: 2.5 | I6: 1 | J6: 0 | K6: 0 | L6: =F6+G6 -> 41 | N6: =VLOOKUP($B6,bigboard2026!B:F,5,0) -> 1.9 | O6: =VLOOKUP($B6,bigboard2026!B:G,6,0) -> 150 | P6: =2026-VLOOKUP($B6,bigboard2026!B:H,7,0) -> 24
A7: =VLOOKUP(B7,bigboard2026!B:O,14,0) -> 71 | B7: Gracen Halton | C7: DT | D7: Oklahoma | E7: =VLOOKUP(B7,Tabla1[[NOMBRE]:[RONDA_ESTIMADA]],4,0) -> R2 | F7: 11 | G7: 22 | H7: 3.5 | I7: 1 | J7: 0 | K7: 2 | L7: =F7+G7 -> 33 | N7: =VLOOKUP($B7,bigboard2026!B:F,5,0) -> 1.91 | O7: =VLOOKUP($B7,bigboard2026!B:G,6,0) -> 133 | P7: =2026-VLOOKUP($B7,bigboard2026!B:H,7,0) -> 22
A8: =VLOOKUP(B8,bigboard2026!B:O,14,0) -> 73 | B8: Domonique Orange | C8: DT | D8: Iowa State | E8: =VLOOKUP(B8,Tabla1[[NOMBRE]:[RONDA_ESTIMADA]],4,0) -> R2 | F8: 9 | G8: 9 | H8: 0 | I8: 0 | J8: 0 | K8: 1 | L8: =F8+G8 -> 18 | N8: =VLOOKUP($B8,bigboard2026!B:F,5,0) -> 1.93 | O8: =VLOOKUP($B8,bigboard2026!B:G,6,0) -> 147 | P8: =2026-VLOOKUP($B8,bigboard2026!B:H,7,0) -> 22
A9: =VLOOKUP(B9,bigboard2026!B:O,14,0) -> 76 | B9: Darrell Jackson Jr | C9: DT | D9: Florida State | E9: =VLOOKUP(B9,Tabla1[[NOMBRE]:[RONDA_ESTIMADA]],4,0) -> R2 | F9: 11 | G9: 33 | H9: 1 | I9: 0 | J9: 0 | K9: 0 | L9: =F9+G9 -> 44 | N9: =VLOOKUP($B9,bigboard2026!B:F,5,0) -> 1.96 | O9: =VLOOKUP($B9,bigboard2026!B:G,6,0) -> 152 | P9: =2026-VLOOKUP($B9,bigboard2026!B:H,7,0) -> 23
A10: =VLOOKUP(B10,bigboard2026!B:O,14,0) -> 100 | B10: Rayshaun Benny | C10: DT | D10: Michigan | E10: =VLOOKUP(B10,Tabla1[[NOMBRE]:[RONDA_ESTIMADA]],4,0) -> R3 | F10: 19 | G10: 16 | H10: 1.5 | I10: 0 | J10: 0 | K10: 2 | L10: =F10+G10 -> 35 | N10: =VLOOKUP($B10,bigboard2026!B:F,5,0) -> 1.91 | O10: =VLOOKUP($B10,bigboard2026!B:G,6,0) -> 135 | P10: =2026-VLOOKUP($B10,bigboard2026!B:H,7,0) -> 24
A11: =VLOOKUP(B11,bigboard2026!B:O,14,0) -> 104 | B11: Dontay Corleone | C11: DT | D11: Cincinati | E11: =VLOOKUP(B11,Tabla1[[NOMBRE]:[RONDA_ESTIMADA]],4,0) -> R3 | F11: 14 | G11: 12 | H11: 3.5 | I11: 0 | J11: 0 | K11: 0 | L11: =F11+G11 -> 26 | M11: 2024 | N11: =VLOOKUP($B11,bigboard2026!B:F,5,0) -> 1.83 | O11: =VLOOKUP($B11,bigboard2026!B:G,6,0) -> 154 | P11: =2026-VLOOKUP($B11,bigboard2026!B:H,7,0) -> 24
A12: =VLOOKUP(B12,bigboard2026!B:O,14,0) -> 114 | B12: Kaleb Proctor | C12: DT | D12: Souteastern Louisiana | E12: =VLOOKUP(B12,Tabla1[[NOMBRE]:[RONDA_ESTIMADA]],4,0) -> R3 | L12: =F12+G12 -> 0 | N12: =VLOOKUP($B12,bigboard2026!B:F,5,0) -> 1.91 | O12: =VLOOKUP($B12,bigboard2026!B:G,6,0) -> 127 | P12: =2026-VLOOKUP($B12,bigboard2026!B:H,7,0) -> 24
A13: =VLOOKUP(B13,bigboard2026!B:O,14,0) -> 119 | B13: Zxavian Harris | C13: DT | D13: Mississippi | E13: =VLOOKUP(B13,Tabla1[[NOMBRE]:[RONDA_ESTIMADA]],4,0) -> R3 | F13: 27 | G13: 31 | H13: 3 | I13: 0 | J13: 1 | K13: 3 | L13: =F13+G13 -> 58 | N13: =VLOOKUP($B13,bigboard2026!B:F,5,0) -> 2.03 | O13: =VLOOKUP($B13,bigboard2026!B:G,6,0) -> 150 | P13: =2026-VLOOKUP($B13,bigboard2026!B:H,7,0) -> 23
A14: =VLOOKUP(B14,bigboard2026!B:O,14,0) -> 123 | B14: Chris McClellan | C14: DT | D14: Missouri | E14: =VLOOKUP(B14,Tabla1[[NOMBRE]:[RONDA_ESTIMADA]],4,0) -> R4 | F14: 15 | G14: 33 | H14: 6 | I14: 0 | J14: 0 | K14: 2 | L14: =F14+G14 -> 48 | N14: =VLOOKUP($B14,bigboard2026!B:F,5,0) -> 1.83 | O14: =VLOOKUP($B14,bigboard2026!B:G,6,0) -> 146 | P14: =2026-VLOOKUP($B14,bigboard2026!B:H,7,0) -> 23
A15: =VLOOKUP(B15,bigboard2026!B:O,14,0) -> 125 | B15: Landon Robinson | C15: DT | D15: Navy | E15: =VLOOKUP(B15,Tabla1[[NOMBRE]:[RONDA_ESTIMADA]],4,0) -> R4 | F15: 31 | G15: 33 | H15: 6.5 | I15: 0 | J15: 0 | K15: 0 | L15: =F15+G15 -> 64 | N15: =VLOOKUP($B15,bigboard2026!B:F,5,0) -> 1.83 | O15: =VLOOKUP($B15,bigboard2026!B:G,6,0) -> 130 | P15: =2026-VLOOKUP($B15,bigboard2026!B:H,7,0) -> 23
A16: =VLOOKUP(B16,bigboard2026!B:O,14,0) -> 148 | B16: Tim Keenan | C16: DT | D16: Alabama | E16: =VLOOKUP(B16,Tabla1[[NOMBRE]:[RONDA_ESTIMADA]],4,0) -> R4 | F16: 11 | G16: 5 | H16: 2 | I16: 1 | J16: 0 | K16: 1 | L16: =F16+G16 -> 16 | N16: =VLOOKUP($B16,bigboard2026!B:F,5,0) -> 1.85 | O16: =VLOOKUP($B16,bigboard2026!B:G,6,0) -> 148 | P16: =2026-VLOOKUP($B16,bigboard2026!B:H,7,0) -> 24
A17: =VLOOKUP(B17,bigboard2026!B:O,14,0) -> 156 | B17: DeMonte Capehart | C17: DT | D17: Clemson | E17: =VLOOKUP(B17,Tabla1[[NOMBRE]:[RONDA_ESTIMADA]],4,0) -> R4 | F17: 12 | G17: 8 | H17: 1 | I17: 0 | J17: 0 | K17: 2 | L17: =F17+G17 -> 20 | N17: =VLOOKUP($B17,bigboard2026!B:F,5,0) -> 1.96 | O17: =VLOOKUP($B17,bigboard2026!B:G,6,0) -> 142 | P17: =2026-VLOOKUP($B17,bigboard2026!B:H,7,0) -> 24
A18: =VLOOKUP(B18,bigboard2026!B:O,14,0) -> 166 | B18: Albert Regis | C18: DT | D18: Texas A&M | E18: =VLOOKUP(B18,Tabla1[[NOMBRE]:[RONDA_ESTIMADA]],4,0) -> R5 | F18: 18 | G18: 31 | H18: 2 | I18: 1 | J18: 0 | K18: 3 | L18: =F18+G18 -> 49 | N18: =VLOOKUP($B18,bigboard2026!B:F,5,0) -> 1.85 | O18: =VLOOKUP($B18,bigboard2026!B:G,6,0) -> 134 | P18: =2026-VLOOKUP($B18,bigboard2026!B:H,7,0) -> 22
A19: =VLOOKUP(B19,bigboard2026!B:O,14,0) -> 182 | B19: Zane Durant | C19: DT | D19: Penn State | E19: =VLOOKUP(B19,Tabla1[[NOMBRE]:[RONDA_ESTIMADA]],4,0) -> R5 | F19: 14 | G19: 11 | H19: 4 | I19: 0 | J19: 1 | K19: 2 | L19: =F19+G19 -> 25 | N19: =VLOOKUP($B19,bigboard2026!B:F,5,0) -> 1.85 | O19: =VLOOKUP($B19,bigboard2026!B:G,6,0) -> 132 | P19: =2026-VLOOKUP($B19,bigboard2026!B:H,7,0) -> 22
A20: =VLOOKUP(B20,bigboard2026!B:O,14,0) -> 210 | B20: Brandon Clevelend | C20: DT | D20: NC State | E20: =VLOOKUP(B20,Tabla1[[NOMBRE]:[RONDA_ESTIMADA]],4,0) -> R6 | F20: 12 | G20: 24 | H20: 2 | I20: 0 | J20: 0 | K20: 0 | L20: =F20+G20 -> 36 | N20: =VLOOKUP($B20,bigboard2026!B:F,5,0) -> 1.93 | O20: =VLOOKUP($B20,bigboard2026!B:G,6,0) -> 142 | P20: =2026-VLOOKUP($B20,bigboard2026!B:H,7,0) -> 21
A21: =VLOOKUP(B21,bigboard2026!B:O,14,0) -> 220 | B21: Tyler Onyedim | C21: DT | D21: Texas A&M | E21: =VLOOKUP(B21,Tabla1[[NOMBRE]:[RONDA_ESTIMADA]],4,0) -> R6 | F21: 18 | G21: 30 | H21: 2.5 | I21: 1 | J21: 0 | K21: 0 | L21: =F21+G21 -> 48 | N21: =VLOOKUP($B21,bigboard2026!B:F,5,0) -> 1.93 | O21: =VLOOKUP($B21,bigboard2026!B:G,6,0) -> 134 | P21: =2026-VLOOKUP($B21,bigboard2026!B:H,7,0) -> 24
A22: =VLOOKUP(B22,bigboard2026!B:O,14,0) -> 221 | B22: Bryson Eason | C22: DT | D22: Tennessee | E22: =VLOOKUP(B22,Tabla1[[NOMBRE]:[RONDA_ESTIMADA]],4,0) -> R6 | F22: 8 | G22: 23 | H22: 0 | I22: 0 | J22: 0 | K22: 3 | L22: =F22+G22 -> 31 | N22: =VLOOKUP($B22,bigboard2026!B:F,5,0) -> 1.88 | O22: =VLOOKUP($B22,bigboard2026!B:G,6,0) -> 147 | P22: =2026-VLOOKUP($B22,bigboard2026!B:H,7,0) -> 24
A23: =VLOOKUP(B23,bigboard2026!B:O,14,0) -> 227 | B23: Cameron Ball | C23: DT | D23: Arkansas | E23: =VLOOKUP(B23,Tabla1[[NOMBRE]:[RONDA_ESTIMADA]],4,0) -> R6 | F23: 14 | G23: 13 | H23: 0 | I23: 0 | J23: 0 | K23: 0 | L23: =F23+G23 -> 27 | N23: =VLOOKUP($B23,bigboard2026!B:F,5,0) -> 1.93 | O23: =VLOOKUP($B23,bigboard2026!B:G,6,0) -> 141 | P23: =2026-VLOOKUP($B23,bigboard2026!B:H,7,0) -> 23
A24: =VLOOKUP(B24,bigboard2026!B:O,14,0) -> 238 | B24: David Gusta | C24: DT | D24: Kentucky | E24: =VLOOKUP(B24,Tabla1[[NOMBRE]:[RONDA_ESTIMADA]],4,0) -> R6 | F24: 3 | G24: 9 | H24: 1 | I24: 0 | J24: 0 | K24: 0 | L24: =F24+G24 -> 12 | N24: =VLOOKUP($B24,bigboard2026!B:F,5,0) -> 1.91 | O24: =VLOOKUP($B24,bigboard2026!B:G,6,0) -> 140 | P24: =2026-VLOOKUP($B24,bigboard2026!B:H,7,0) -> 24
... A33: =VLOOKUP(B33,bigboard2026!B:O,14,0) -> 0 | B33: Jernias Tafia | C33: DT | D33: Colorado State | E33: =VLOOKUP(B33,Tabla1[[NOMBRE]:[RONDA_ESTIMADA]],4,0) -> UDFA | F33: 8 | G33: 20 | H33: 0 | I33: 1 | J33: 0 | K33: 1 | L33: =F33+G33 -> 28 | N33: =VLOOKUP($B33,bigboard2026!B:F,5,0) -> 1.91 | O33: =VLOOKUP($B33,bigboard2026!B:G,6,0) -> 138 | P33: =2026-VLOOKUP($B33,bigboard2026!B:H,7,0) -> 24

Sheet EDGE
A1: RANK | B1: NOMBRE | C1: POSICIÓN | D1: UNIVERSIDAD | E1: RONDA_ESTIMADA | F1: SOLO | G1: ASIS | H1: SACK | I1: FF | J1: INT | K1: PD | L1: TOT/TK | M1: ALT | N1: PESO | O1: EDAD
A2: =VLOOKUP(B2,bigboard2026!B:O,14,0) -> 4 | B2: David Bailey | C2: EDGE | D2: Texas Tech | E2: =VLOOKUP(B2,Tabla1[[NOMBRE]:[RONDA_ESTIMADA]],4,0) -> R1 | F2: 32 | G2: 20 | H2: 14.5 | I2: 3 | J2: 0 | K2: 3 | L2: =F2+G2 -> 52 | M2: =VLOOKUP($B2,bigboard2026!B:F,5,0) -> 1.91 | N2: =VLOOKUP($B2,bigboard2026!B:G,6,0) -> 113 | O2: =2026-VLOOKUP($B2,bigboard2026!B:H,7,0) -> 23
A3: =VLOOKUP(B3,bigboard2026!B:O,14,0) -> 6 | B3: Rueben Bain Jr. | C3: EDGE | D3: Miami | E3: =VLOOKUP(B3,Tabla1[[NOMBRE]:[RONDA_ESTIMADA]],4,0) -> R1 | F3: 30 | G3: 24 | H3: 9.5 | I3: 1 | J3: 1 | K3: 1 | L3: =F3+G3 -> 54 | M3: =VLOOKUP($B3,bigboard2026!B:F,5,0) -> 1.88 | N3: =VLOOKUP($B3,bigboard2026!B:G,6,0) -> 119 | O3: =2026-VLOOKUP($B3,bigboard2026!B:H,7,0) -> 22
A4: =VLOOKUP(B4,bigboard2026!B:O,14,0) -> 21 | B4: Akheem Mesidor | C4: EDGE | D4: Miami | E4: =VLOOKUP(B4,Tabla1[[NOMBRE]:[RONDA_ESTIMADA]],4,0) -> R1 | F4: 38 | G4: 25 | H4: 12.5 | I4: 4 | J4: 0 | K4: 0 | L4: =F4+G4 -> 63 | M4: =VLOOKUP($B4,bigboard2026!B:F,5,0) -> 1.91 | N4: =VLOOKUP($B4,bigboard2026!B:G,6,0) -> 117 | O4: =2026-VLOOKUP($B4,bigboard2026!B:H,7,0) -> 25
A5: =VLOOKUP(B5,bigboard2026!B:O,14,0) -> 22 | B5: Keldric Faulk | C5: EDGE | D5: Auburn | E5: =VLOOKUP(B5,Tabla1[[NOMBRE]:[RONDA_ESTIMADA]],4,0) -> R1 | F5: 23 | G5: 6 | H5: 2 | I5: 0 | J5: 0 | K5: 4 | L5: =F5+G5 -> 29 | M5: =VLOOKUP($B5,bigboard2026!B:F,5,0) -> 1.98 | N5: =VLOOKUP($B5,bigboard2026!B:G,6,0) -> 125 | O5: =2026-VLOOKUP($B5,bigboard2026!B:H,7,0) -> 21
A6: =VLOOKUP(B6,bigboard2026!B:O,14,0) -> 27 | B6: Cashius Howell | C6: EDGE | D6: Texas A&M | E6: =VLOOKUP(B6,Tabla1[[NOMBRE]:[RONDA_ESTIMADA]],4,0) -> R1 | F6: 20 | G6: 11 | H6: 11.5 | I6: 1 | J6: 0 | K6: 6 | L6: =F6+G6 -> 31 | M6: =VLOOKUP($B6,bigboard2026!B:F,5,0) -> 1.88 | N6: =VLOOKUP($B6,bigboard2026!B:G,6,0) -> 115 | O6: =2026-VLOOKUP($B6,bigboard2026!B:H,7,0) -> 23
A7: =VLOOKUP(B7,bigboard2026!B:O,14,0) -> 29 | B7: T.J. Parker | C7: EDGE | D7: Clemson | E7: =VLOOKUP(B7,Tabla1[[NOMBRE]:[RONDA_ESTIMADA]],4,0) -> R1 | F7: 18 | G7: 19 | H7: 5 | I7: 0 | J7: 0 | K7: 1 | L7: =F7+G7 -> 37 | M7: =VLOOKUP($B7,bigboard2026!B:F,5,0) -> 1.91 | N7: =VLOOKUP($B7,bigboard2026!B:G,6,0) -> 120 | O7: =2026-VLOOKUP($B7,bigboard2026!B:H,7,0) -> 22
A8: =VLOOKUP(B8,bigboard2026!B:O,14,0) -> 32 | B8: R Mason Thomas | C8: EDGE | D8: Oklahoma | E8: =VLOOKUP(B8,Tabla1[[NOMBRE]:[RONDA_ESTIMADA]],4,0) -> R1 | F8: 18 | G8: 8 | H8: 6.5 | I8: 2 | J8: 0 | K8: 0 | L8: =F8+G8 -> 26 | M8: =VLOOKUP($B8,bigboard2026!B:F,5,0) -> 1.88 | N8: =VLOOKUP($B8,bigboard2026!B:G,6,0) -> 109 | O8: =2026-VLOOKUP($B8,bigboard2026!B:H,7,0) -> 22
A9: =VLOOKUP(B9,bigboard2026!B:O,14,0) -> 39 | B9: Zion Young | C9: EDGE | D9: Missouri | E9: =VLOOKUP(B9,Tabla1[[NOMBRE]:[RONDA_ESTIMADA]],4,0) -> R1 | F9: 20 | G9: 22 | H9: 6.5 | I9: 2 | J9: 0 | K9: 2 | L9: =F9+G9 -> 42 | M9: =VLOOKUP($B9,bigboard2026!B:F,5,0) -> 1.98 | N9: =VLOOKUP($B9,bigboard2026!B:G,6,0) -> 119 | O9: =2026-VLOOKUP($B9,bigboard2026!B:H,7,0) -> 22
A10: =VLOOKUP(B10,bigboard2026!B:O,14,0) -> 51 | B10: Gabe Jacas | C10: EDGE | D10: Illinois | E10: =VLOOKUP(B10,Tabla1[[NOMBRE]:[RONDA_ESTIMADA]],4,0) -> R2 | F10: 23 | G10: 20 | H10: 11 | I10: 3 | J10: 0 | K10: 1 | L10: =F10+G10 -> 43 | M10: =VLOOKUP($B10,bigboard2026!B:F,5,0) -> 1.93 | N10: =VLOOKUP($B10,bigboard2026!B:G,6,0) -> 118 | O10: =2026-VLOOKUP($B10,bigboard2026!B:H,7,0) -> 22
A11: =VLOOKUP(B11,bigboard2026!B:O,14,0) -> 55 | B11: Malachi Lawrence | C11: EDGE | D11: UCF | E11: =VLOOKUP(B11,Tabla1[[NOMBRE]:[RONDA_ESTIMADA]],4,0) -> R2 | F11: 18 | G11: 10 | H11: 7 | I11: 2 | J11: 0 | K11: 2 | L11: =F11+G11 -> 28 | M11: =VLOOKUP($B11,bigboard2026!B:F,5,0) -> 1.93 | N11: =VLOOKUP($B11,bigboard2026!B:G,6,0) -> 122 | O11: =2026-VLOOKUP($B11,bigboard2026!B:H,7,0) -> 23
A12: =VLOOKUP(B12,bigboard2026!B:O,14,0) -> 61 | B12: Joshua Josephs | C12: EDGE | D12: Tennessee | E12: =VLOOKUP(B12,Tabla1[[NOMBRE]:[RONDA_ESTIMADA]],4,0) -> R2 | F12: 17 | G12: 16 | H12: 4 | I12: 3 | J12: 0 | K12: 2 | L12: =F12+G12 -> 33 | M12: =VLOOKUP($B12,bigboard2026!B:F,5,0) -> 1.91 | N12: =VLOOKUP($B12,bigboard2026!B:G,6,0) -> 109 | O12: =2026-VLOOKUP($B12,bigboard2026!B:H,7,0) -> 22
A13: =VLOOKUP(B13,bigboard2026!B:O,14,0) -> 64 | B13: Derrick Moore | C13: EDGE | D13: Michigan | E13: =VLOOKUP(B13,Tabla1[[NOMBRE]:[RONDA_ESTIMADA]],4,0) -> R2 | F13: 19 | G13: 11 | H13: 10 | I13: 2 | J13: 0 | K13: 3 | L13: =F13+G13 -> 30 | M13: =VLOOKUP($B13,bigboard2026!B:F,5,0) -> 1.83 | N13: =VLOOKUP($B13,bigboard2026!B:G,6,0) -> 108 | O13: =2026-VLOOKUP($B13,bigboard2026!B:H,7,0) -> 24
... A41: =VLOOKUP(B41,bigboard2026!B:O,14,0) -> 0 | B41: Arden Walker | C41: EDGE | D41: Colorado | E41: =VLOOKUP(B41,Tabla1[[NOMBRE]:[RONDA_ESTIMADA]],4,0) -> UDFA | F41: 24 | G41: 20 | H41: 2.5 | I41: 0 | J41: 0 | K41: 1 | L41: =F41+G41 -> 44 | M41: =VLOOKUP($B41,bigboard2026!B:F,5,0) -> 1.88 | N41: =VLOOKUP($B41,bigboard2026!B:G,6,0) -> 113 | O41: =2026-VLOOKUP($B41,bigboard2026!B:H,7,0) -> 24

Sheet LB
A1: RANK | B1: NOMBRE | C1: POSICIÓN | D1: UNIVERSIDAD | E1: RONDA_ESTIMADA | F1: SOLO | G1: ASIS | H1: SACK | I1: FF | J1: INT | K1: PD | L1: TOT/TK | M1: ALT | N1: PESO | O1: EDAD
A2: =VLOOKUP(B2,bigboard2026!B:O,14,0) -> 2 | B2: Arvell Reese | C2: LB | D2: Ohio State | E2: =VLOOKUP(B2,Tabla1[[NOMBRE]:[RONDA_ESTIMADA]],4,0) -> R1 | F2: 34 | G2: 35 | H2: 6.5 | I2: 0 | J2: 0 | K2: 0 | L2: =F2+G2 -> 69 | M2: =VLOOKUP($B2,bigboard2026!B:F,5,0) -> 1.93 | N2: =VLOOKUP($B2,bigboard2026!B:G,6,0) -> 109 | O2: =2026-VLOOKUP($B2,bigboard2026!B:H,7,0) -> 21
A3: =VLOOKUP(B3,bigboard2026!B:O,14,0) -> 3 | B3: Sonny Styles | C3: LB | D3: Ohio State | E3: =VLOOKUP(B3,Tabla1[[NOMBRE]:[RONDA_ESTIMADA]],4,0) -> R1 | F3: 46 | G3: 37 | H3: 1 | I3: 1 | J3: 1 | K3: 3 | L3: =F3+G3 -> 83 | M3: =VLOOKUP($B3,bigboard2026!B:F,5,0) -> 1.96 | N3: =VLOOKUP($B3,bigboard2026!B:G,6,0) -> 111 | O3: =2026-VLOOKUP($B3,bigboard2026!B:H,7,0) -> 22
A4: =VLOOKUP(B4,bigboard2026!B:O,14,0) -> 16 | B4: CJ Allen | C4: LB | D4: Georgia | E4: =VLOOKUP(B4,Tabla1[[NOMBRE]:[RONDA_ESTIMADA]],4,0) -> R1 | F4: 47 | G4: 41 | H4: 3.5 | I4: 2 | J4: 0 | K4: 4 | L4: =F4+G4 -> 88 | M4: =VLOOKUP($B4,bigboard2026!B:F,5,0) -> 1.85 | N4: =VLOOKUP($B4,bigboard2026!B:G,6,0) -> 107 | O4: =2026-VLOOKUP($B4,bigboard2026!B:H,7,0) -> 21
A5: =VLOOKUP(B5,bigboard2026!B:O,14,0) -> 43 | B5: Jacob Rodriguez | C5: LB | D5: Texas Tech | E5: =VLOOKUP(B5,Tabla1[[NOMBRE]:[RONDA_ESTIMADA]],4,0) -> R2 | F5: 63 | G5: 65 | H5: 1 | I5: 7 | J5: 4 | K5: 6 | L5: =F5+G5 -> 128 | M5: =VLOOKUP($B5,bigboard2026!B:F,5,0) -> 1.85 | N5: =VLOOKUP($B5,bigboard2026!B:G,6,0) -> 105 | O5: =2026-VLOOKUP($B5,bigboard2026!B:H,7,0) -> 24
A6: =VLOOKUP(B6,bigboard2026!B:O,14,0) -> 58 | B6: Jake Golday | C6: LB | D6: Cincinnati | E6: =VLOOKUP(B6,Tabla1[[NOMBRE]:[RONDA_ESTIMADA]],4,0) -> R2 | F6: 38 | G6: 66 | H6: 3.5 | I6: 1 | J6: 0 | K6: 3 | L6: =F6+G6 -> 104 | M6: =VLOOKUP($B6,bigboard2026!B:F,5,0) -> 1.93 | N6: =VLOOKUP($B6,bigboard2026!B:G,6,0) -> 108 | O6: =2026-VLOOKUP($B6,bigboard2026!B:H,7,0) -> 23
A7: =VLOOKUP(B7,bigboard2026!B:O,14,0) -> 70 | B7: Josiah Trotter | C7: LB | D7: Missouri | E7: =VLOOKUP(B7,Tabla1[[NOMBRE]:[RONDA_ESTIMADA]],4,0) -> R2 | F7: 43 | G7: 41 | H7: 2 | I7: 0 | J7: 0 | K7: 1 | L7: =F7+G7 -> 84 | M7: =VLOOKUP($B7,bigboard2026!B:F,5,0) -> 1.88 | N7: =VLOOKUP($B7,bigboard2026!B:G,6,0) -> 108 | O7: =2026-VLOOKUP($B7,bigboard2026!B:H,7,0) -> 21
A8: =VLOOKUP(B8,bigboard2026!B:O,14,0) -> 83 | B8: Anthony Hill | C8: LB | D8: Texas | E8: =VLOOKUP(B8,Tabla1[[NOMBRE]:[RONDA_ESTIMADA]],4,0) -> R3 | F8: 70 | G8: 38 | H8: 4 | I8: 3 | J8: 2 | K8: 1 | L8: =F8+G8 -> 108 | M8: =VLOOKUP($B8,bigboard2026!B:F,5,0) -> 1.91 | N8: =VLOOKUP($B8,bigboard2026!B:G,6,0) -> 107 | O8: =2026-VLOOKUP($B8,bigboard2026!B:H,7,0) -> 21
A9: =VLOOKUP(B9,bigboard2026!B:O,14,0) -> 86 | B9: Kyle Louis | C9: LB | D9: Pittsburg | E9: =VLOOKUP(B9,Tabla1[[NOMBRE]:[RONDA_ESTIMADA]],4,0) -> R3 | F9: 43 | G9: 36 | H9: 3 | I9: 1 | J9: 2 | K9: 3 | L9: =F9+G9 -> 79 | M9: =VLOOKUP($B9,bigboard2026!B:F,5,0) -> 1.83 | N9: =VLOOKUP($B9,bigboard2026!B:G,6,0) -> 100 | O9: =2026-VLOOKUP($B9,bigboard2026!B:H,7,0) -> 22
A10: =VLOOKUP(B10,bigboard2026!B:O,14,0) -> 111 | B10: Keyshaun Elliott | C10: LB | D10: Arizona State | E10: =VLOOKUP(B10,Tabla1[[NOMBRE]:[RONDA_ESTIMADA]],4,0) -> R3 | F10: 54 | G10: 44 | H10: 7 | I10: 0 | J10: 0 | K10: 2 | L10: =F10+G10 -> 98 | M10: =VLOOKUP($B10,bigboard2026!B:F,5,0) -> 1.88 | N10: =VLOOKUP($B10,bigboard2026!B:G,6,0) -> 107 | O10: =2026-VLOOKUP($B10,bigboard2026!B:H,7,0) -> 23
A11: =VLOOKUP(B11,bigboard2026!B:O,14,0) -> 115 | B11: Deontae Lawson | C11: LB | D11: Alabama | E11: =VLOOKUP(B11,Tabla1[[NOMBRE]:[RONDA_ESTIMADA]],4,0) -> R3 | F11: 45 | G11: 35 | H11: 1.5 | I11: 2 | J11: 0 | K11: 4 | L11: =F11+G11 -> 80 | M11: =VLOOKUP($B11,bigboard2026!B:F,5,0) -> 1.88 | N11: =VLOOKUP($B11,bigboard2026!B:G,6,0) -> 103 | O11: =2026-VLOOKUP($B11,bigboard2026!B:H,7,0) -> 23
A12: =VLOOKUP(B12,bigboard2026!B:O,14,0) -> 130 | B12: Taurean York | C12: LB | D12: Texas A&M | E12: =VLOOKUP(B12,Tabla1[[NOMBRE]:[RONDA_ESTIMADA]],4,0) -> R4 | F12: 32 | G12: 40 | H12: 1 | I12: 0 | J12: 0 | K12: 3 | L12: =F12+G12 -> 72 | M12: =VLOOKUP($B12,bigboard2026!B:F,5,0) -> 1.83 | N12: =VLOOKUP($B12,bigboard2026!B:G,6,0) -> 107 | O12: =2026-VLOOKUP($B12,bigboard2026!B:H,7,0) -> 21
A13: =VLOOKUP(B13,bigboard2026!B:O,14,0) -> 140 | B13: Bryce Boettcher | C13: LB | D13: Oregon | E13: =VLOOKUP(B13,Tabla1[[NOMBRE]:[RONDA_ESTIMADA]],4,0) -> R4 | F13: 56 | G13: 80 | H13: 1 | I13: 2 | J13: 1 | K13: 5 | L13: =F13+G13 -> 136 | M13: =VLOOKUP($B13,bigboard2026!B:F,5,0) -> 1.88 | N13: =VLOOKUP($B13,bigboard2026!B:G,6,0) -> 105 | O13: =2026-VLOOKUP($B13,bigboard2026!B:H,7,0) -> 24
... A30: =VLOOKUP(B30,bigboard2026!B:O,14,0) -> 0 | B30: Karson Sahar | C30: LB | D30: Iowa | E30: =VLOOKUP(B30,Tabla1[[NOMBRE]:[RONDA_ESTIMADA]],4,0) -> UDFA | F30: 42 | G30: 41 | H30: 4 | I30: 1 | J30: 0 | K30: 1 | L30: =F30+G30 -> 83 | M30: =VLOOKUP($B30,bigboard2026!B:F,5,0) -> 1.88 | N30: =VLOOKUP($B30,bigboard2026!B:G,6,0) -> 107 | O30: =2026-VLOOKUP($B30,bigboard2026!B:H,7,0) -> 23

Sheet CB
A1: RANK | B1: NOMBRE | C1: POSICIÓN | D1: UNIVERSIDAD | E1: RONDA_ESTIMADA | F1: SOLO | G1: ASIS | H1: SACK | I1: FF | J1: INT | K1: PD | L1: TOT/TK | N1: ALT | O1: PESO | P1: EDAD
A2: =VLOOKUP(B2,bigboard2026!B:O,14,0) -> 10 | B2: Mansoor Delane | C2: CB | D2: LSU | E2: =VLOOKUP(B2,Tabla1[[NOMBRE]:[RONDA_ESTIMADA]],4,0) -> R1 | F2: 28 | G2: 17 | H2: 0 | I2: 0 | J2: 2 | K2: 11 | L2: =F2+G2 -> 45 | N2: =VLOOKUP($B2,bigboard2026!B:F,5,0) -> 1.83 | O2: =VLOOKUP($B2,bigboard2026!B:G,6,0) -> 85 | P2: =2026-VLOOKUP($B2,bigboard2026!B:H,7,0) -> 23
A3: =VLOOKUP(B3,bigboard2026!B:O,14,0) -> 19 | B3: Jermod McCoy | C3: CB | D3: Tennessee | E3: =VLOOKUP(B3,Tabla1[[NOMBRE]:[RONDA_ESTIMADA]],4,0) -> R1 | F3: 26 | G3: 18 | H3: 0 | I3: 0 | J3: 4 | K3: 7 | L3: =F3+G3 -> 44 | M3: 2024 | N3: =VLOOKUP($B3,bigboard2026!B:F,5,0) -> 1.85 | O3: =VLOOKUP($B3,bigboard2026!B:G,6,0) -> 85 | P3: =2026-VLOOKUP($B3,bigboard2026!B:H,7,0) -> 21
A4: =VLOOKUP(B4,bigboard2026!B:O,14,0) -> 23 | B4: Avieon Terrell | C4: CB | D4: Clemson | E4: =VLOOKUP(B4,Tabla1[[NOMBRE]:[RONDA_ESTIMADA]],4,0) -> R1 | F4: 30 | G4: 18 | H4: 3 | I4: 5 | J4: 0 | K4: 9 | L4: =F4+G4 -> 48 | N4: =VLOOKUP($B4,bigboard2026!B:F,5,0) -> 1.8 | O4: =VLOOKUP($B4,bigboard2026!B:G,6,0) -> 84 | P4: =2026-VLOOKUP($B4,bigboard2026!B:H,7,0) -> 21
A5: =VLOOKUP(B5,bigboard2026!B:O,14,0) -> 35 | B5: Colton Hood | C5: CB | D5: Tennessee | E5: =VLOOKUP(B5,Tabla1[[NOMBRE]:[RONDA_ESTIMADA]],4,0) -> R1 | F5: 34 | G5: 16 | H5: 0 | I5: 1 | J5: 1 | K5: 8 | L5: =F5+G5 -> 50 | N5: =VLOOKUP($B5,bigboard2026!B:F,5,0) -> 1.83 | O5: =VLOOKUP($B5,bigboard2026!B:G,6,0) -> 88 | P5: =2026-VLOOKUP($B5,bigboard2026!B:H,7,0) -> 21
A6: =VLOOKUP(B6,bigboard2026!B:O,14,0) -> 42 | B6: Brandon Cisse | C6: CB | D6: South Carolina | E6: =VLOOKUP(B6,Tabla1[[NOMBRE]:[RONDA_ESTIMADA]],4,0) -> R2 | F6: 19 | G6: 8 | H6: 0 | I6: 1 | J6: 1 | K6: 5 | L6: =F6+G6 -> 27 | N6: =VLOOKUP($B6,bigboard2026!B:F,5,0) -> 1.83 | O6: =VLOOKUP($B6,bigboard2026!B:G,6,0) -> 86 | P6: =2026-VLOOKUP($B6,bigboard2026!B:H,7,0) -> 21
A7: =VLOOKUP(B7,bigboard2026!B:O,14,0) -> 44 | B7: D'Angelo Ponds | C7: CB | D7: Indiana | E7: =VLOOKUP(B7,Tabla1[[NOMBRE]:[RONDA_ESTIMADA]],4,0) -> R2 | F7: 43 | G7: 17 | H7: 0 | I7: 1 | J7: 2 | K7: 10 | L7: =F7+G7 -> 60 | N7: =VLOOKUP($B7,bigboard2026!B:F,5,0) -> 1.75 | O7: =VLOOKUP($B7,bigboard2026!B:G,6,0) -> 83 | P7: =2026-VLOOKUP($B7,bigboard2026!B:H,7,0) -> 22
A8: =VLOOKUP(B8,bigboard2026!B:O,14,0) -> 47 | B8: Chris Johnson | C8: CB | D8: San Diego State | E8: =VLOOKUP(B8,Tabla1[[NOMBRE]:[RONDA_ESTIMADA]],4,0) -> R2 | F8: 34 | G8: 14 | H8: 1 | I8: 1 | J8: 4 | K8: 8 | L8: =F8+G8 -> 48 | N8: =VLOOKUP($B8,bigboard2026!B:F,5,0) -> 1.83 | O8: =VLOOKUP($B8,bigboard2026!B:G,6,0) -> 84 | P8: =2026-VLOOKUP($B8,bigboard2026!B:H,7,0) -> 22
A9: =VLOOKUP(B9,bigboard2026!B:O,14,0) -> 50 | B9: Keith Abney II | C9: CB | D9: Arizona State | E9: =VLOOKUP(B9,Tabla1[[NOMBRE]:[RONDA_ESTIMADA]],4,0) -> R2 | F9: 36 | G9: 8 | H9: 1 | I9: 2 | J9: 2 | K9: 12 | L9: =F9+G9 -> 44 | N9: =VLOOKUP($B9,bigboard2026!B:F,5,0) -> 1.83 | O9: =VLOOKUP($B9,bigboard2026!B:G,6,0) -> 86 | P9: =2026-VLOOKUP($B9,bigboard2026!B:H,7,0) -> 21
A10: =VLOOKUP(B10,bigboard2026!B:O,14,0) -> 56 | B10: Keionte Scott | C10: CB | D10: Miami | E10: =VLOOKUP(B10,Tabla1[[NOMBRE]:[RONDA_ESTIMADA]],4,0) -> R2 | F10: 42 | G10: 22 | H10: 5 | I10: 2 | J10: 2 | K10: 5 | L10: =F10+G10 -> 64 | N10: =VLOOKUP($B10,bigboard2026!B:F,5,0) -> 1.8 | O10: =VLOOKUP($B10,bigboard2026!B:G,6,0) -> 88 | P10: =2026-VLOOKUP($B10,bigboard2026!B:H,7,0) -> 25
A11: =VLOOKUP(B11,bigboard2026!B:O,14,0) -> 66 | B11: Davison Igbinosun | C11: CB | D11: Ohio State | E11: =VLOOKUP(B11,Tabla1[[NOMBRE]:[RONDA_ESTIMADA]],4,0) -> R2 | F11: 28 | G11: 24 | H11: 0 | I11: 0 | J11: 2 | K11: 6 | L11: =F11+G11 -> 52 | N11: =VLOOKUP($B11,bigboard2026!B:F,5,0) -> 1.88 | O11: =VLOOKUP($B11,bigboard2026!B:G,6,0) -> 86 | P11: =2026-VLOOKUP($B11,bigboard2026!B:H,7,0) -> 22
A12: =VLOOKUP(B12,bigboard2026!B:O,14,0) -> 82 | B12: Devin Moore | C12: CB | D12: Florida | E12: =VLOOKUP(B12,Tabla1[[NOMBRE]:[RONDA_ESTIMADA]],4,0) -> R3 | F12: 23 | G12: 12 | H12: 1 | I12: 1 | J12: 2 | K12: 3 | L12: =F12+G12 -> 35 | N12: =VLOOKUP($B12,bigboard2026!B:F,5,0) -> 1.91 | O12: =VLOOKUP($B12,bigboard2026!B:G,6,0) -> 89 | P12: =2026-VLOOKUP($B12,bigboard2026!B:H,7,0) -> 23
A13: =VLOOKUP(B13,bigboard2026!B:O,14,0) -> 84 | B13: Daylen Everette | C13: CB | D13: Georgia | E13: =VLOOKUP(B13,Tabla1[[NOMBRE]:[RONDA_ESTIMADA]],4,0) -> R3 | F13: 28 | G13: 21 | H13: 0 | I13: 0 | J13: 1 | K13: 8 | L13: =F13+G13 -> 49 | N13: =VLOOKUP($B13,bigboard2026!B:F,5,0) -> 1.85 | O13: =VLOOKUP($B13,bigboard2026!B:G,6,0) -> 89 | P13: =2026-VLOOKUP($B13,bigboard2026!B:H,7,0) -> 22
A14: =VLOOKUP(B14,bigboard2026!B:O,14,0) -> 87 | B14: Chandler Rivers | C14: CB | D14: Duke | E14: =VLOOKUP(B14,Tabla1[[NOMBRE]:[RONDA_ESTIMADA]],4,0) -> R3 | F14: 37 | G14: 22 | H14: 0 | I14: 1 | J14: 2 | K14: 8 | L14: =F14+G14 -> 59 | N14: =VLOOKUP($B14,bigboard2026!B:F,5,0) -> 1.75 | O14: =VLOOKUP($B14,bigboard2026!B:G,6,0) -> 84 | P14: =2026-VLOOKUP($B14,bigboard2026!B:H,7,0) -> 23
A15: =VLOOKUP(B15,bigboard2026!B:O,14,0) -> 112 | B15: Malik Muhammad | C15: CB | D15: Texas | E15: =VLOOKUP(B15,Tabla1[[NOMBRE]:[RONDA_ESTIMADA]],4,0) -> R3 | F15: 23 | G15: 7 | H15: 1 | I15: 0 | J15: 2 | K15: 4 | L15: =F15+G15 -> 30 | N15: =VLOOKUP($B15,bigboard2026!B:F,5,0) -> 1.83 | O15: =VLOOKUP($B15,bigboard2026!B:G,6,0) -> 83 | P15: =2026-VLOOKUP($B15,bigboard2026!B:H,7,0) -> 22
... A37: =VLOOKUP(B37,bigboard2026!B:O,14,0) -> 0 | B37: Preston Hodge | C37: CB | D37: Colorado | E37: =VLOOKUP(B37,Tabla1[[NOMBRE]:[RONDA_ESTIMADA]],4,0) -> UDFA | F37: 40 | G37: 15 | H37: 0 | I37: 0 | J37: 1 | K37: 13 | L37: =F37+G37 -> 55 | N37: =VLOOKUP($B37,bigboard2026!B:F,5,0) -> 1.83 | O37: =VLOOKUP($B37,bigboard2026!B:G,6,0) -> 91 | P37: =2026-VLOOKUP($B37,bigboard2026!B:H,7,0) -> 24

Sheet S
A1: RANK | B1: NOMBRE | C1: POSICIÓN | D1: UNIVERSIDAD | E1: RONDA_ESTIMADA | F1: SOLO | G1: ASIS | H1: SACK | I1: FF | J1: INT | K1: PD | L1: TOT/TK | M1: ALT | N1: PESO | O1: EDAD
A2: =VLOOKUP(B2,bigboard2026!B:O,14,0) -> 7 | B2: Caleb Downs | C2: S | D2: Ohio State | E2: =VLOOKUP(B2,Tabla1[[NOMBRE]:[RONDA_ESTIMADA]],4,0) -> R1 | F2: 45 | G2: 23 | H2: 1 | I2: 2 | J2: 2 | K2: 1 | L2: =F2+G2 -> 68 | M2: =VLOOKUP($B2,bigboard2026!B:F,5,0) -> 1.83 | N2: =VLOOKUP($B2,bigboard2026!B:G,6,0) -> 93 | O2: =2026-VLOOKUP($B2,bigboard2026!B:H,7,0) -> 22
A3: =VLOOKUP(B3,bigboard2026!B:O,14,0) -> 11 | B3: Dillon Thieneman | C3: S | D3: Oregon | E3: =VLOOKUP(B3,Tabla1[[NOMBRE]:[RONDA_ESTIMADA]],4,0) -> R1 | F3: 44 | G3: 48 | H3: 1 | I3: 0 | J3: 2 | K3: 5 | L3: =F3+G3 -> 92 | M3: =VLOOKUP($B3,bigboard2026!B:F,5,0) -> 1.83 | N3: =VLOOKUP($B3,bigboard2026!B:G,6,0) -> 91 | O3: =2026-VLOOKUP($B3,bigboard2026!B:H,7,0) -> 22
A4: =VLOOKUP(B4,bigboard2026!B:O,14,0) -> 20 | B4: Emmanuel McNeil-Warren | C4: S | D4: Toledo | E4: =VLOOKUP(B4,Tabla1[[NOMBRE]:[RONDA_ESTIMADA]],4,0) -> R1 | F4: 36 | G4: 41 | H4: 0.5 | I4: 3 | J4: 2 | K4: 6 | L4: =F4+G4 -> 77 | M4: =VLOOKUP($B4,bigboard2026!B:F,5,0) -> 1.91 | N4: =VLOOKUP($B4,bigboard2026!B:G,6,0) -> 91 | O4: =2026-VLOOKUP($B4,bigboard2026!B:H,7,0) -> 22
A5: =VLOOKUP(B5,bigboard2026!B:O,14,0) -> 52 | B5: A.J. Haulcy | C5: S | D5: LSU | E5: =VLOOKUP(B5,Tabla1[[NOMBRE]:[RONDA_ESTIMADA]],4,0) -> R2 | F5: 49 | G5: 40 | H5: 0 | I5: 1 | J5: 3 | K5: 4 | L5: =F5+G5 -> 89 | M5: =VLOOKUP($B5,bigboard2026!B:F,5,0) -> 1.83 | N5: =VLOOKUP($B5,bigboard2026!B:G,6,0) -> 101 | O5: =2026-VLOOKUP($B5,bigboard2026!B:H,7,0) -> 22
A6: =VLOOKUP(B6,bigboard2026!B:O,14,0) -> 63 | B6: Treydan Stukes | C6: S | D6: Arizona | E6: =VLOOKUP(B6,Tabla1[[NOMBRE]:[RONDA_ESTIMADA]],4,0) -> R2 | F6: 24 | G6: 28 | H6: 1 | I6: 0 | J6: 4 | K6: 6 | L6: =F6+G6 -> 52 | M6: =VLOOKUP($B6,bigboard2026!B:F,5,0) -> 1.85 | N6: =VLOOKUP($B6,bigboard2026!B:G,6,0) -> 86 | O6: =2026-VLOOKUP($B6,bigboard2026!B:H,7,0) -> 24
A7: =VLOOKUP(B7,bigboard2026!B:O,14,0) -> 81 | B7: Kamari Ramsey | C7: S | D7: USC | E7: =VLOOKUP(B7,Tabla1[[NOMBRE]:[RONDA_ESTIMADA]],4,0) -> R3 | F7: 18 | G7: 9 | H7: 0 | I7: 0 | J7: 0 | K7: 2 | L7: =F7+G7 -> 27 | M7: =VLOOKUP($B7,bigboard2026!B:F,5,0) -> 1.83 | N7: =VLOOKUP($B7,bigboard2026!B:G,6,0) -> 92 | O7: =2026-VLOOKUP($B7,bigboard2026!B:H,7,0) -> 22
A8: =VLOOKUP(B8,bigboard2026!B:O,14,0) -> 96 | B8: Genesis Smith | C8: S | D8: Arizona | E8: =VLOOKUP(B8,Tabla1[[NOMBRE]:[RONDA_ESTIMADA]],4,0) -> R3 | F8: 35 | G8: 42 | H8: 0 | I8: 2 | J8: 1 | K8: 8 | L8: =F8+G8 -> 77 | M8: =VLOOKUP($B8,bigboard2026!B:F,5,0) -> 1.88 | N8: =VLOOKUP($B8,bigboard2026!B:G,6,0) -> 92 | O8: =2026-VLOOKUP($B8,bigboard2026!B:H,7,0) -> 23
A9: =VLOOKUP(B9,bigboard2026!B:O,14,0) -> 102 | B9: Zakee Wheatley | C9: S | D9: Penn State | E9: =VLOOKUP(B9,Tabla1[[NOMBRE]:[RONDA_ESTIMADA]],4,0) -> R3 | F9: 51 | G9: 23 | H9: 0 | I9: 0 | J9: 1 | K9: 1 | L9: =F9+G9 -> 74 | M9: =VLOOKUP($B9,bigboard2026!B:F,5,0) -> 1.91 | N9: =VLOOKUP($B9,bigboard2026!B:G,6,0) -> 92 | O9: =2026-VLOOKUP($B9,bigboard2026!B:H,7,0) -> 24
A10: =VLOOKUP(B10,bigboard2026!B:O,14,0) -> 108 | B10: Bud Clark | C10: S | D10: TCU | E10: =VLOOKUP(B10,Tabla1[[NOMBRE]:[RONDA_ESTIMADA]],4,0) -> R3 | F10: 31 | G10: 25 | H10: 1 | I10: 0 | J10: 4 | K10: 7 | L10: =F10+G10 -> 56 | M10: =VLOOKUP($B10,bigboard2026!B:F,5,0) -> 1.88 | N10: =VLOOKUP($B10,bigboard2026!B:G,6,0) -> 86 | O10: =2026-VLOOKUP($B10,bigboard2026!B:H,7,0) -> 24
A11: =VLOOKUP(B11,bigboard2026!B:O,14,0) -> 136 | B11: Jalon Kilgore | C11: S | D11: South Carolina | E11: =VLOOKUP(B11,Tabla1[[NOMBRE]:[RONDA_ESTIMADA]],4,0) -> R4 | F11: 32 | G11: 22 | H11: 0 | I11: 0 | J11: 2 | K11: 10 | L11: =F11+G11 -> 54 | M11: =VLOOKUP($B11,bigboard2026!B:F,5,0) -> 1.85 | N11: =VLOOKUP($B11,bigboard2026!B:G,6,0) -> 95 | O11: =2026-VLOOKUP($B11,bigboard2026!B:H,7,0) -> 21
A12: =VLOOKUP(B12,bigboard2026!B:O,14,0) -> 171 | B12: Michael Taaffe | C12: S | D12: Texas | E12: =VLOOKUP(B12,Tabla1[[NOMBRE]:[RONDA_ESTIMADA]],4,0) -> R5 | F12: 38 | G12: 32 | H12: 1 | I12: 0 | J12: 2 | K12: 1 | L12: =F12+G12 -> 70 | M12: =VLOOKUP($B12,bigboard2026!B:F,5,0) -> 1.83 | N12: =VLOOKUP($B12,bigboard2026!B:G,6,0) -> 86 | O12: =2026-VLOOKUP($B12,bigboard2026!B:H,7,0) -> 23
A13: =VLOOKUP(B13,bigboard2026!B:O,14,0) -> 185 | B13: Jalen Stroman | C13: S | D13: Notre Dame | E13: =VLOOKUP(B13,Tabla1[[NOMBRE]:[RONDA_ESTIMADA]],4,0) -> R5 | F13: 30 | G13: 7 | H13: 1 | I13: 0 | J13: 1 | K13: 2 | L13: =F13+G13 -> 37 | M13: =VLOOKUP($B13,bigboard2026!B:F,5,0) -> 1.85 | N13: =VLOOKUP($B13,bigboard2026!B:G,6,0) -> 90 | O13: =2026-VLOOKUP($B13,bigboard2026!B:H,7,0) -> 22
... A27: =VLOOKUP(B27,bigboard2026!B:O,14,0) -> 0 | B27: Jake Jarmolowich | C27: S | D27: Colorado State | E27: =VLOOKUP(B27,Tabla1[[NOMBRE]:[RONDA_ESTIMADA]],4,0) -> UDFA | F27: 32 | G27: 35 | H27: 1 | I27: 1 | J27: 0 | K27: 1 | L27: =F27+G27 -> 67 | M27: =VLOOKUP($B27,bigboard2026!B:F,5,0) -> 1.86 | N27: =VLOOKUP($B27,bigboard2026!B:G,6,0) -> 90 | O27: =2026-VLOOKUP($B27,bigboard2026!B:H,7,0) -> 24
